BEGIN:VCALENDAR
VERSION:2.0
PRODID:-//Sioux City Lewis and Clark Interpretive Center - ECPv6.15.20//NONSGML v1.0//EN
CALSCALE:GREGORIAN
METHOD:PUBLISH
X-ORIGINAL-URL:https://siouxcitylcic.com
X-WR-CALDESC:Events for Sioux City Lewis and Clark Interpretive Center
REFRESH-INTERVAL;VALUE=DURATION:PT1H
X-Robots-Tag:noindex
X-PUBLISHED-TTL:PT1H
BEGIN:VTIMEZONE
TZID:America/Chicago
BEGIN:DAYLIGHT
TZOFFSETFROM:-0600
TZOFFSETTO:-0500
TZNAME:CDT
DTSTART:20250309T080000
END:DAYLIGHT
BEGIN:STANDARD
TZOFFSETFROM:-0500
TZOFFSETTO:-0600
TZNAME:CST
DTSTART:20251102T070000
END:STANDARD
BEGIN:DAYLIGHT
TZOFFSETFROM:-0600
TZOFFSETTO:-0500
TZNAME:CDT
DTSTART:20260308T080000
END:DAYLIGHT
BEGIN:STANDARD
TZOFFSETFROM:-0500
TZOFFSETTO:-0600
TZNAME:CST
DTSTART:20261101T070000
END:STANDARD
BEGIN:DAYLIGHT
TZOFFSETFROM:-0600
TZOFFSETTO:-0500
TZNAME:CDT
DTSTART:20270314T080000
END:DAYLIGHT
BEGIN:STANDARD
TZOFFSETFROM:-0500
TZOFFSETTO:-0600
TZNAME:CST
DTSTART:20271107T070000
END:STANDARD
END:VTIMEZONE
BEGIN:VEVENT
DTSTART;TZID=America/Chicago:20260426T140000
DTEND;TZID=America/Chicago:20260426T150000
DTSTAMP:20260423T150345
CREATED:20260205T170308Z
LAST-MODIFIED:20260205T170308Z
UID:10001460-1777212000-1777215600@siouxcitylcic.com
SUMMARY:Grant Wood: Prairie Rebel
DESCRIPTION:On Sunday\, April 26\, 2026\, at 2:00pm in the Betty Strong Encounter Center auditorium\, actor Tom Milligan performs as Grant Wood: Prairie Rebel. Admission is free\, but freewill donations are encouraged. \nIn this 45-minute\, one-man show\, Grant Wood chats with the audience as if talking to an old friend across the backyard fence\, or maybe at his home at Five Turner Alley in Cedar Rapids. He tells us about his life and how he changed the art world forever with his work. It is the man behind American Gothic that we hear and see\, and the story of how he took the moments\, the memories and the people of our state to show the whole world the specialness of this Iowa. After the presentation\, the audience is encouraged to ask questions about Grant Wood and his life. \nTom Milligan has been a working theatrical professional for the past 45 years\, working as an actor\, director\, scene designer\, producer\, and writer. Originally from Des Moines\, companies credited to his resume include Charlie’s Showplace Dinner Theatre\, The Drake Opera\, The Drama Workshop\, and The Old Creamery Theatre.
URL:https://siouxcitylcic.com/event/grant-wood-prairie-rebel/
LOCATION:Lewis and Clark Interpretive Center\, 900 Larsen Park Road\, Sioux City\, IA\, 51103\, United States
CATEGORIES:Adults/Families’ Event
ATTACH;FMTTYPE=image/jpeg:https://siouxcitylcic.com/wp-content/uploads/2026/02/Milligan.jpg
END:VEVENT
END:VCALENDAR