BEGIN:VCALENDAR
VERSION:2.0
PRODID:-//Sioux City Lewis and Clark Interpretive Center - ECPv6.15.20//NONSGML v1.0//EN
CALSCALE:GREGORIAN
METHOD:PUBLISH
X-WR-CALNAME:Sioux City Lewis and Clark Interpretive Center
X-ORIGINAL-URL:https://siouxcitylcic.com
X-WR-CALDESC:Events for Sioux City Lewis and Clark Interpretive Center
REFRESH-INTERVAL;VALUE=DURATION:PT1H
X-Robots-Tag:noindex
X-PUBLISHED-TTL:PT1H
BEGIN:VTIMEZONE
TZID:America/Chicago
BEGIN:DAYLIGHT
TZOFFSETFROM:-0600
TZOFFSETTO:-0500
TZNAME:CDT
DTSTART:20230312T080000
END:DAYLIGHT
BEGIN:STANDARD
TZOFFSETFROM:-0500
TZOFFSETTO:-0600
TZNAME:CST
DTSTART:20231105T070000
END:STANDARD
BEGIN:DAYLIGHT
TZOFFSETFROM:-0600
TZOFFSETTO:-0500
TZNAME:CDT
DTSTART:20240310T080000
END:DAYLIGHT
BEGIN:STANDARD
TZOFFSETFROM:-0500
TZOFFSETTO:-0600
TZNAME:CST
DTSTART:20241103T070000
END:STANDARD
BEGIN:DAYLIGHT
TZOFFSETFROM:-0600
TZOFFSETTO:-0500
TZNAME:CDT
DTSTART:20250309T080000
END:DAYLIGHT
BEGIN:STANDARD
TZOFFSETFROM:-0500
TZOFFSETTO:-0600
TZNAME:CST
DTSTART:20251102T070000
END:STANDARD
END:VTIMEZONE
BEGIN:VEVENT
DTSTART;TZID=America/Chicago:20240728T140000
DTEND;TZID=America/Chicago:20240728T150000
DTSTAMP:20260424T085819
CREATED:20240714T211249Z
LAST-MODIFIED:20240714T211249Z
UID:10001273-1722175200-1722178800@siouxcitylcic.com
SUMMARY:Post Cards from Sioux City
DESCRIPTION:On Sunday\, July 28\, 2024\, at 2:00 PM\, longtime postcard collector Dave Bishop will enlighten the audience with his presentation on “Post Cards from Sioux City.” Admission is free with reception to follow. \nLong before e-mails and texts\, postcards were the way people shared images and messages.Bishop will share past views of downtown\, street scenes\, buildings\, and events. He is a frequent presenter of local postcard history programs at the Center. \nAssistant Director of Lewis and Clark Interpretive Center\, Theresa Jackson\, states “Bishop’s programs are a must for lovers of local history.” In every one of Bishops’ programs\, he tells a different story of Siouxland in cards. He has covered stories of local transportation\, restaurants\, advertising\, floods\, and many more.
URL:https://siouxcitylcic.com/event/post-cards-from-sioux-city/
LOCATION:Lewis and Clark Interpretive Center\, 900 Larsen Park Road\, Sioux City\, IA\, 51103\, United States
CATEGORIES:Adults/Families’ Event
ATTACH;FMTTYPE=image/jpeg:https://siouxcitylcic.com/wp-content/uploads/2024/07/Dave-Bishop.jpg
END:VEVENT
BEGIN:VEVENT
DTSTART;TZID=America/Chicago:20240721T140000
DTEND;TZID=America/Chicago:20240721T150000
DTSTAMP:20260424T085819
CREATED:20240619T204313Z
LAST-MODIFIED:20240621T184859Z
UID:10000898-1721570400-1721574000@siouxcitylcic.com
SUMMARY:Dan Holtz & Gary Zalud: Heroism on the Plains - Story Songs of Courage and Determination
DESCRIPTION:On Sunday\, July 21\, 2024\, at 2:00 PM\, in the Betty Strong Encounter Center\, Dan Holtz and Gary Zalud present songs about fascinating stories from Nebraska and Great Plains history: Heroism on the Plains: Story Songs of Courage and Determination. \nHoltz and Zalud\, whose musical collaboration began during their days growing up in Ord\, NE\, now perform as “Flatwater Reunion\,” after recently re-connecting. They played together in a musical group named “Calico\,” nearly 50 years ago. Playing an assortment of acoustic instruments\, the duo brings Nebraska and Great Plains history alive through their acoustic-electric renditions of Holtz’s story songs. \nDr. Holtz is an Emeritus Professor of English from Peru State College in southeast Nebraska; Dr. Zalud is Emeritus Professor of Literacy Education and was the longtime Chair of Curriculum and Instruction at the University of South Dakota in Vermillion. In the year 2000\, Holtz was the recipient of the Nebraska State College System Teaching Excellence Award and has given more than 500 musical\, historical-storytelling programs statewide through the sponsorship of Humanities Nebraska. Zalud received the USD School of Education 2015-16 Excellence in Service award for impactful work with school districts in North and South Dakota\, Nebraska\, Minnesota\, Wyoming and Iowa.
URL:https://siouxcitylcic.com/event/heroism-on-the-plains-story-songs-of-courage-and-determination/
LOCATION:Lewis and Clark Interpretive Center\, 900 Larsen Park Road\, Sioux City\, IA\, 51103\, United States
CATEGORIES:Adults/Families’ Event
ATTACH;FMTTYPE=image/png:https://siouxcitylcic.com/wp-content/uploads/2024/06/Holtz-and-Zalud-1.png
END:VEVENT
BEGIN:VEVENT
DTSTART;TZID=America/Chicago:20240717T100000
DTEND;TZID=America/Chicago:20240717T110000
DTSTAMP:20260424T085819
CREATED:20240714T205000Z
LAST-MODIFIED:20240714T205000Z
UID:10001271-1721210400-1721214000@siouxcitylcic.com
SUMMARY:"Uh Oh! Little Red Riding Hood and the Three Little Pigs"
DESCRIPTION:The Lewis and Clark Interpretive Center Betty Strong Encounter Center announces a special show on its outdoor Spirit of Discovery Stage. Bring your lawn chairs to enjoy this wonderful free show. In case of rain\, the show will be moved inside to the auditorium. \nOn Wednesday\, July 17\, at 10:00am\, bring the kids to a wonderful new show written specially for this summer series and produced by LAMB Arts Regional Theatre: “Uh-Oh! Little Red Riding Hood and the Three Little Pigs.” The show has six actors and seven characters: The Three Little Pigs\, Little Red Riding Hood\, Grandmother\, and the Hunter/Wolf. Tracy Bennett\, Executive Director of Lewis and Clark Interpretive Center\, states\, “We are thrilled to work with and promote local entities such as LAMB.” \nLAMB Regional Arts Theatre has a rich history of producing theatre in Sioux City. The creative force behind LAMB is Executive Director and Director of Education\, Diana Wooley and Russ Wooley\, Artistic/Managing Director. LAMB is committed to arts education and involvement with the Siouxland community. The LAMB school provides a wide range of classes for various age groups. They are designed to ignite imagination and foster growth in every student.
URL:https://siouxcitylcic.com/event/uh-oh-little-red-riding-hood-and-the-three-little-pigs/
LOCATION:Lewis and Clark Interpretive Center\, 900 Larsen Park Road\, Sioux City\, IA\, 51103\, United States
CATEGORIES:Adults/Families’ Event,Kids’ Event
ATTACH;FMTTYPE=image/png:https://siouxcitylcic.com/wp-content/uploads/2024/07/Lamb-Theatre.png
END:VEVENT
BEGIN:VEVENT
DTSTART;TZID=America/Chicago:20240714T140000
DTEND;TZID=America/Chicago:20240714T150000
DTSTAMP:20260424T085819
CREATED:20240619T203915Z
LAST-MODIFIED:20240621T184441Z
UID:10000897-1720965600-1720969200@siouxcitylcic.com
SUMMARY:"'Take Me to the Green Valley and Lay the Sod O'er Me': Burials on the Western Frontier" Helen Lewis
DESCRIPTION:On Sunday\, July 14\, 2024\, at 2:00 PM\, in the Betty Strong Encounter Center auditorium\, Helen Lewis presents another unique program.  Admission is free with a reception to follow. \n“‘Take Me to the Green Valley and Lay the Sod O’er Me’: Burials on the Western Frontier” opens with some background of burials along the trail West by the covered wagon pioneers. Lewis includes information of the handling of “along-the-trail” burials through a selection of John Wayne Westerns. \nHelen Lewis has been teaching courses in English and Humanities since 1971. Her special interests include Westerns\, women artists\, medieval mysteries\, and square dancing. Originally with the Great Plains Chautauqua Society\, Lewis currently offers many programs for Humanities Iowa and Nebraska Humanities.
URL:https://siouxcitylcic.com/event/burials-on-the-western-frontier/
LOCATION:Lewis and Clark Interpretive Center\, 900 Larsen Park Road\, Sioux City\, IA\, 51103\, United States
CATEGORIES:Adults/Families’ Event
ATTACH;FMTTYPE=image/png:https://siouxcitylcic.com/wp-content/uploads/2024/06/Helen-Lewis-1.png
END:VEVENT
BEGIN:VEVENT
DTSTART;TZID=America/Chicago:20240712T190000
DTEND;TZID=America/Chicago:20240712T200000
DTSTAMP:20260424T085819
CREATED:20240619T204647Z
LAST-MODIFIED:20240619T204647Z
UID:10000899-1720810800-1720814400@siouxcitylcic.com
SUMMARY:Walker Mathison
DESCRIPTION:On Friday\, July 12\, 2024\, at 7:00 PM on the Spirit of Discovery Outdoor Stage\, come be entertained by Walker Mathison\, a country artist with unmatched vocals and star power. The event is free. The audience will be positioned in a grassy area of Center’s campus\, so they are encouraged to bring lawn chairs or blankets\, as well as refreshments. \nMathison has been seen on the Netflix original singing competition Sing On! This singer/songwriter is a seasoned veteran of the stage and entertainment industry\, and his show does not disappoint. Mathison is an East High graduate and has performed many times in theatres throughout his time in the Siouxland area. Mathison more recently headlined at Hard Rock\, Margaritaville\, Disney Springs\, and Sea World to name a few venues. He is on the rise like few others on the independent scene. In fact\, just say “hey Siri\, play Walker Mathison” and his debut album will show up!
URL:https://siouxcitylcic.com/event/walker-mathison/
LOCATION:Lewis and Clark Interpretive Center\, 900 Larsen Park Road\, Sioux City\, IA\, 51103\, United States
CATEGORIES:Adults/Families’ Event
ATTACH;FMTTYPE=image/png:https://siouxcitylcic.com/wp-content/uploads/2024/06/Walker-Mathison.png
END:VEVENT
BEGIN:VEVENT
DTSTART;TZID=America/Chicago:20240707T140000
DTEND;TZID=America/Chicago:20240707T150000
DTSTAMP:20260424T085819
CREATED:20240619T202724Z
LAST-MODIFIED:20240619T202724Z
UID:10000896-1720360800-1720364400@siouxcitylcic.com
SUMMARY:"Magic Man" Corey Fravel
DESCRIPTION:On Sunday\, July 7\, 2024\, at 12:30 PM and 2:00 PM\, “Magic Man” Corey Fravel will dazzle our audience with his skills of prestidigitation. \nOnce an 8-year-old with a dream to be a Magician\, Corey Fravel has become a staple for local entertainment in the Sioux City area. With over 20 years of experience\, Corey will perform a show that makes the audience feel like a kid again\, with a sense of awe and wonder that highlights the greatness that magic brings out. Admission is free with a reception to follow.
URL:https://siouxcitylcic.com/event/magic-man-corey-fravel-2/
LOCATION:Lewis and Clark Interpretive Center\, 900 Larsen Park Road\, Sioux City\, IA\, 51103\, United States
CATEGORIES:Adults/Families’ Event
ATTACH;FMTTYPE=image/png:https://siouxcitylcic.com/wp-content/uploads/2024/06/Corey-Fravel.png
END:VEVENT
BEGIN:VEVENT
DTSTART;TZID=America/Chicago:20240630T140000
DTEND;TZID=America/Chicago:20240630T150000
DTSTAMP:20260424T085819
CREATED:20240619T202402Z
LAST-MODIFIED:20240619T202402Z
UID:10000895-1719756000-1719759600@siouxcitylcic.com
SUMMARY:New Horizons Band of Sioux City
DESCRIPTION:On Sunday\, June 30\, 2024\, at 2:00 PM music will fill the air at the Betty Strong Encounter Center when New Horizon’s Band of Sioux City presents its concert under the direction of Benjamin Mauritz. Admission will be free; a reception will follow. \nThe 30-member New Horizon’s Band of Sioux City began more than 10 years ago with six members. It is one of more than 200 U.S. programs in the New Horizon’s International Music Association\, which originated in 1991 at the Eastman School of Music\, Rochester\, NY. The Association’s sole purpose is to provide musical opportunities for adults. \nNew Horizon’s Band of Sioux City includes musicians with limited experience as well as those who participated in high school or college bands. Ray’s Midbell Music of Sioux City sponsors the band and hosts rehearsals on Thursday afternoons.
URL:https://siouxcitylcic.com/event/new-horizons-band-of-sioux-city/
LOCATION:Lewis and Clark Interpretive Center\, 900 Larsen Park Road\, Sioux City\, IA\, 51103\, United States
CATEGORIES:Adults/Families’ Event
ATTACH;FMTTYPE=image/png:https://siouxcitylcic.com/wp-content/uploads/2024/06/New-Horizon.png
END:VEVENT
BEGIN:VEVENT
DTSTART;TZID=America/Chicago:20240628T190000
DTEND;TZID=America/Chicago:20240628T200000
DTSTAMP:20260424T085819
CREATED:20240623T201254Z
LAST-MODIFIED:20240623T201254Z
UID:10000900-1719601200-1719604800@siouxcitylcic.com
SUMMARY:“Music of the Blues in the Night” by Noah Towns and Friends
DESCRIPTION:On Friday\, June 28\, at 7:00pm\, on the Spirit of Discovery Outdoor Stage\, Noah Towns and friends will play the “Music of the Blues in the Night.” \nThe audience will be positioned in a grassy area of Center’s campus\, so are encouraged to bring lawn chairs or blankets\, as well as refreshments. \nTowns is the head Choir Director at Sioux City West High School and a Morningside College graduate. Towns\, a singer and keyboard player\, believes in the power of music to heal and uplift people.
URL:https://siouxcitylcic.com/event/music-of-the-blues-in-the-night-by-noah-towns-and-friends/
LOCATION:Lewis and Clark Interpretive Center\, 900 Larsen Park Road\, Sioux City\, IA\, 51103\, United States
CATEGORIES:Adults/Families’ Event
ATTACH;FMTTYPE=image/png:https://siouxcitylcic.com/wp-content/uploads/2024/06/Noah-Towns.png
END:VEVENT
BEGIN:VEVENT
DTSTART;TZID=America/Chicago:20240623T140000
DTEND;TZID=America/Chicago:20240623T150000
DTSTAMP:20260424T085819
CREATED:20240616T190142Z
LAST-MODIFIED:20240616T190142Z
UID:10000894-1719151200-1719154800@siouxcitylcic.com
SUMMARY:Selskap
DESCRIPTION:On Sunday\, June 23\, 2024\, at 2:00pm\, in the Betty Strong Encounter Center auditorium\, the group Selskap will present a program of Scandinavian Love Songs. Songs of arranged marriages\, May-December marriages and the story of mail order brides from Sioux City for the Norwegian bachelors in Lincoln County\, South Dakota! \nSelskap members include Tom Weisbecker – harmonica\, mandolin\, and guitar; Ron Johnson – the box and vocals; Barbara Sabella – guitar and vocals; and Bill Peterson – fiddle. They play every June at the Midsummer Celebration at Dalesburg Lutheran Church in Clay County\, South Dakota. The Swedes there have been celebrating Midsummer since 1868 when the 1st Swedish settlers came there\, many of them passing through Sioux City on the way west to claim land under the Homestead Act.
URL:https://siouxcitylcic.com/event/selskap/
LOCATION:Lewis and Clark Interpretive Center\, 900 Larsen Park Road\, Sioux City\, IA\, 51103\, United States
CATEGORIES:Adults/Families’ Event
ATTACH;FMTTYPE=image/png:https://siouxcitylcic.com/wp-content/uploads/2024/06/Selskap.png
END:VEVENT
END:VCALENDAR