BEGIN:VCALENDAR
VERSION:2.0
PRODID:-//Sioux City Lewis and Clark Interpretive Center - ECPv6.15.20//NONSGML v1.0//EN
CALSCALE:GREGORIAN
METHOD:PUBLISH
X-WR-CALNAME:Sioux City Lewis and Clark Interpretive Center
X-ORIGINAL-URL:https://siouxcitylcic.com
X-WR-CALDESC:Events for Sioux City Lewis and Clark Interpretive Center
REFRESH-INTERVAL;VALUE=DURATION:PT1H
X-Robots-Tag:noindex
X-PUBLISHED-TTL:PT1H
BEGIN:VTIMEZONE
TZID:America/Chicago
BEGIN:DAYLIGHT
TZOFFSETFROM:-0600
TZOFFSETTO:-0500
TZNAME:CDT
DTSTART:20240310T080000
END:DAYLIGHT
BEGIN:STANDARD
TZOFFSETFROM:-0500
TZOFFSETTO:-0600
TZNAME:CST
DTSTART:20241103T070000
END:STANDARD
BEGIN:DAYLIGHT
TZOFFSETFROM:-0600
TZOFFSETTO:-0500
TZNAME:CDT
DTSTART:20250309T080000
END:DAYLIGHT
BEGIN:STANDARD
TZOFFSETFROM:-0500
TZOFFSETTO:-0600
TZNAME:CST
DTSTART:20251102T070000
END:STANDARD
BEGIN:DAYLIGHT
TZOFFSETFROM:-0600
TZOFFSETTO:-0500
TZNAME:CDT
DTSTART:20260308T080000
END:DAYLIGHT
BEGIN:STANDARD
TZOFFSETFROM:-0500
TZOFFSETTO:-0600
TZNAME:CST
DTSTART:20261101T070000
END:STANDARD
END:VTIMEZONE
BEGIN:VEVENT
DTSTART;TZID=America/Chicago:20251101T103000
DTEND;TZID=America/Chicago:20251101T113000
DTSTAMP:20260424T014044
CREATED:20250919T143215Z
LAST-MODIFIED:20250919T143215Z
UID:10001423-1761993000-1761996600@siouxcitylcic.com
SUMMARY:Discoveries With Lewis and Clark: "Oh Boy...I Never Expected This!"
DESCRIPTION:The third adventure in this 6-week expedition\, Discoveries With Lewis and Clark\, happens on Saturday\, November 1.  Students currently in grades K-5 can attend at 10:30am or at 12:30pm.  Admission is free; no registration required. \nLewis and Clark had all kinds of surprises along the way. Students will use their imaginations\, writing\, and acting skills to put themselves in the boots of our historical adventurers. They will discover how they would handle those unexpected events? \nIf you have questions\, contact Amy Linder at 712-224-5242 or email alinder@siouxcitylcic.com.
URL:https://siouxcitylcic.com/event/discoveries-with-lewis-and-clark-oh-boy-i-never-expected-this/
LOCATION:Lewis and Clark Interpretive Center\, 900 Larsen Park Road\, Sioux City\, IA\, 51103\, United States
CATEGORIES:Kids’ Event
ATTACH;FMTTYPE=image/jpeg:https://siouxcitylcic.com/wp-content/uploads/2025/09/Kids-Club-Percy-the-Pelican.jpg
END:VEVENT
BEGIN:VEVENT
DTSTART;TZID=America/Chicago:20251101T123000
DTEND;TZID=America/Chicago:20251101T133000
DTSTAMP:20260424T014044
CREATED:20250919T143442Z
LAST-MODIFIED:20250919T143442Z
UID:10001424-1762000200-1762003800@siouxcitylcic.com
SUMMARY:Discoveries With Lewis and Clark: "Oh Boy...I Never Expected This!"
DESCRIPTION:The third adventure in this 6-week expedition\, Discoveries With Lewis and Clark\, happens on Saturday\, November 1.  Students currently in grades K-5 can attend at 10:30am or at 12:30pm.  Admission is free; no registration required. \nLewis and Clark had all kinds of surprises along the way. Students will use their imaginations\, writing\, and acting skills to put themselves in the boots of our historical adventurers. They will discover how they would handle those unexpected events? \nIf you have questions\, contact Amy Linder at 712-224-5242 or email alinder@siouxcitylcic.com.
URL:https://siouxcitylcic.com/event/discoveries-with-lewis-and-clark-oh-boy-i-never-expected-this-2/
LOCATION:Lewis and Clark Interpretive Center\, 900 Larsen Park Road\, Sioux City\, IA\, 51103\, United States
CATEGORIES:Kids’ Event
ATTACH;FMTTYPE=image/jpeg:https://siouxcitylcic.com/wp-content/uploads/2025/09/Kids-Club-Percy-the-Pelican.jpg
END:VEVENT
BEGIN:VEVENT
DTSTART;TZID=America/Chicago:20251108T103000
DTEND;TZID=America/Chicago:20251108T113000
DTSTAMP:20260424T014044
CREATED:20250919T143919Z
LAST-MODIFIED:20250919T143919Z
UID:10001425-1762597800-1762601400@siouxcitylcic.com
SUMMARY:Discoveries With Lewis and Clark: "I Don't Know If I'm THAT Hungry!"
DESCRIPTION:The fourth adventure in this 6-week expedition\, Discoveries With Lewis and Clark\, happens on Saturday\, November 8.  Students currently in grades K-5 can attend at 10:30am or at 12:30pm.  Admission is free; no registration required. \nRabbit Stew? Roast Bear? Hot Prairie Dogs? What did the crew eat to survive the long journey? Students will get the chance to try some interesting recipes that may or may not have been eaten by Lewis and Clark and the Corps of Discovery! \nIf you have questions\, contact Amy Linder at 712-224-5242 or email alinder@siouxcitylcic.com.
URL:https://siouxcitylcic.com/event/discoveries-with-lewis-and-clark-i-dont-know-if-im-that-hungry/
LOCATION:Lewis and Clark Interpretive Center\, 900 Larsen Park Road\, Sioux City\, IA\, 51103\, United States
CATEGORIES:Kids’ Event
ATTACH;FMTTYPE=image/jpeg:https://siouxcitylcic.com/wp-content/uploads/2025/09/Kids-Club-Percy-the-Pelican.jpg
END:VEVENT
BEGIN:VEVENT
DTSTART;TZID=America/Chicago:20251108T123000
DTEND;TZID=America/Chicago:20251108T133000
DTSTAMP:20260424T014044
CREATED:20250919T144052Z
LAST-MODIFIED:20250919T144052Z
UID:10001426-1762605000-1762608600@siouxcitylcic.com
SUMMARY:Discoveries With Lewis and Clark: "I Don't Know If I'm THAT Hungry!"
DESCRIPTION:The fourth adventure in this 6-week expedition\, Discoveries With Lewis and Clark\, happens on Saturday\, November 8.  Students currently in grades K-5 can attend at 10:30am or at 12:30pm.  Admission is free; no registration required. \nRabbit Stew? Roast Bear? Hot Prairie Dogs? What did the crew eat to survive the long journey? Students will get the chance to try some interesting recipes that may or may not have been eaten by Lewis and Clark and the Corps of Discovery! \nIf you have questions\, contact Amy Linder at 712-224-5242 or email alinder@siouxcitylcic.com.
URL:https://siouxcitylcic.com/event/discoveries-with-lewis-and-clark-i-dont-know-if-im-that-hungry-2/
LOCATION:Lewis and Clark Interpretive Center\, 900 Larsen Park Road\, Sioux City\, IA\, 51103\, United States
CATEGORIES:Kids’ Event
ATTACH;FMTTYPE=image/jpeg:https://siouxcitylcic.com/wp-content/uploads/2025/09/Kids-Club-Percy-the-Pelican.jpg
END:VEVENT
BEGIN:VEVENT
DTSTART;TZID=America/Chicago:20251115T103000
DTEND;TZID=America/Chicago:20251115T113000
DTSTAMP:20260424T014044
CREATED:20250919T144741Z
LAST-MODIFIED:20250919T144741Z
UID:10001427-1763202600-1763206200@siouxcitylcic.com
SUMMARY:Discoveries With Lewis and Clark: "I've Never Seen Anything Like It!"
DESCRIPTION:The fifth adventure in this 6-week expedition\, Discoveries With Lewis and Clark\, happens on Saturday\, November 15.  Students currently in grades K-5 can attend at 10:30am or at 12:30pm. Admission is free; no registration required. \nOne of Lewis’ assignments was to document new flora and fauna that the corps encountered. Students will have the opportunity to share their own interpretations of some of the same flora and fauna that the soldiers saw. \nIf you have questions\, contact Amy Linder at 712-224-5242 or email alinder@siouxcitylcic.com.
URL:https://siouxcitylcic.com/event/discoveries-with-lewis-and-clark-ive-never-seen-anything-like-it/
LOCATION:Lewis and Clark Interpretive Center\, 900 Larsen Park Road\, Sioux City\, IA\, 51103\, United States
CATEGORIES:Kids’ Event
ATTACH;FMTTYPE=image/jpeg:https://siouxcitylcic.com/wp-content/uploads/2025/09/Kids-Club-Percy-the-Pelican.jpg
END:VEVENT
BEGIN:VEVENT
DTSTART;TZID=America/Chicago:20251115T123000
DTEND;TZID=America/Chicago:20251115T133000
DTSTAMP:20260424T014044
CREATED:20250919T145956Z
LAST-MODIFIED:20250919T145956Z
UID:10001429-1763209800-1763213400@siouxcitylcic.com
SUMMARY:Discoveries With Lewis and Clark: "I've Never Seen Anything Like It!"
DESCRIPTION:The fifth adventure in this 6-week expedition\, Discoveries With Lewis and Clark\, happens on Saturday\, November 15.  Students currently in grades K-5 can attend at 10:30am or at 12:30pm. Admission is free; no registration required. \nOne of Lewis’ assignments was to document new flora and fauna that the corps encountered. Students will have the opportunity to share their own interpretations of some of the same flora and fauna that the soldiers saw. \nIf you have questions\, contact Amy Linder at 712-224-5242 or email alinder@siouxcitylcic.com.
URL:https://siouxcitylcic.com/event/discoveries-with-lewis-and-clark-ive-never-seen-anything-like-it-2/
LOCATION:Lewis and Clark Interpretive Center\, 900 Larsen Park Road\, Sioux City\, IA\, 51103\, United States
CATEGORIES:Kids’ Event
ATTACH;FMTTYPE=image/jpeg:https://siouxcitylcic.com/wp-content/uploads/2025/09/Kids-Club-Percy-the-Pelican.jpg
END:VEVENT
BEGIN:VEVENT
DTSTART;TZID=America/Chicago:20251122T103000
DTEND;TZID=America/Chicago:20251122T113000
DTSTAMP:20260424T014044
CREATED:20250919T150621Z
LAST-MODIFIED:20250919T150621Z
UID:10001430-1763807400-1763811000@siouxcitylcic.com
SUMMARY:Discoveries With Lewis and Clark: "It's Good To Be Home!"
DESCRIPTION:The final adventure in this 6-week expedition\, Discoveries With Lewis and Clark\, begins on Saturday\, November 22.  Students currently in grades K-5 can attend at 10:30am or at 12:30pm.  Admission is free; no registration required. \nAt the end of a long journey\, almost everyone in the Corp of Discovery returned to receive great praise and rewards. Students will recap their journey\, evaluating the decisions they made along the way\, and gather their collections to take along with them to their homes\, wherever that may be. \nIf you have questions\, contact Amy Linder at 712-224-5242 or email alinder@siouxcitylcic.com.
URL:https://siouxcitylcic.com/event/discoveries-with-lewis-and-clark-its-good-to-be-home/
LOCATION:Lewis and Clark Interpretive Center\, 900 Larsen Park Road\, Sioux City\, IA\, 51103\, United States
CATEGORIES:Kids’ Event
ATTACH;FMTTYPE=image/jpeg:https://siouxcitylcic.com/wp-content/uploads/2025/09/Kids-Club-Percy-the-Pelican.jpg
END:VEVENT
BEGIN:VEVENT
DTSTART;TZID=America/Chicago:20251122T123000
DTEND;TZID=America/Chicago:20251122T133000
DTSTAMP:20260424T014044
CREATED:20250919T150753Z
LAST-MODIFIED:20250919T150753Z
UID:10001431-1763814600-1763818200@siouxcitylcic.com
SUMMARY:Discoveries With Lewis and Clark: "It's Good To Be Home!"
DESCRIPTION:The final adventure in this 6-week expedition\, Discoveries With Lewis and Clark\, begins on Saturday\, November 22.  Students currently in grades K-5 can attend at 10:30am or at 12:30pm.  Admission is free; no registration required. \nAt the end of a long journey\, almost everyone in the Corp of Discovery returned to receive great praise and rewards. Students will recap their journey\, evaluating the decisions they made along the way\, and gather their collections to take along with them to their homes\, wherever that may be. \nIf you have questions\, contact Amy Linder at 712-224-5242 or email alinder@siouxcitylcic.com.
URL:https://siouxcitylcic.com/event/discoveries-with-lewis-and-clark-its-good-to-be-home-2/
LOCATION:Lewis and Clark Interpretive Center\, 900 Larsen Park Road\, Sioux City\, IA\, 51103\, United States
CATEGORIES:Kids’ Event
ATTACH;FMTTYPE=image/jpeg:https://siouxcitylcic.com/wp-content/uploads/2025/09/Kids-Club-Percy-the-Pelican.jpg
END:VEVENT
END:VCALENDAR