BEGIN:VCALENDAR
VERSION:2.0
PRODID:-//Sioux City Lewis and Clark Interpretive Center - ECPv6.15.20//NONSGML v1.0//EN
CALSCALE:GREGORIAN
METHOD:PUBLISH
X-ORIGINAL-URL:https://siouxcitylcic.com
X-WR-CALDESC:Events for Sioux City Lewis and Clark Interpretive Center
REFRESH-INTERVAL;VALUE=DURATION:PT1H
X-Robots-Tag:noindex
X-PUBLISHED-TTL:PT1H
BEGIN:VTIMEZONE
TZID:America/Chicago
BEGIN:DAYLIGHT
TZOFFSETFROM:-0600
TZOFFSETTO:-0500
TZNAME:CDT
DTSTART:20250309T080000
END:DAYLIGHT
BEGIN:STANDARD
TZOFFSETFROM:-0500
TZOFFSETTO:-0600
TZNAME:CST
DTSTART:20251102T070000
END:STANDARD
BEGIN:DAYLIGHT
TZOFFSETFROM:-0600
TZOFFSETTO:-0500
TZNAME:CDT
DTSTART:20260308T080000
END:DAYLIGHT
BEGIN:STANDARD
TZOFFSETFROM:-0500
TZOFFSETTO:-0600
TZNAME:CST
DTSTART:20261101T070000
END:STANDARD
BEGIN:DAYLIGHT
TZOFFSETFROM:-0600
TZOFFSETTO:-0500
TZNAME:CDT
DTSTART:20270314T080000
END:DAYLIGHT
BEGIN:STANDARD
TZOFFSETFROM:-0500
TZOFFSETTO:-0600
TZNAME:CST
DTSTART:20271107T070000
END:STANDARD
END:VTIMEZONE
BEGIN:VEVENT
DTSTART;TZID=America/Chicago:20260214T110000
DTEND;TZID=America/Chicago:20260214T130000
DTSTAMP:20260423T201144
CREATED:20260205T154006Z
LAST-MODIFIED:20260205T154006Z
UID:10001452-1771066800-1771074000@siouxcitylcic.com
SUMMARY:Cookies and Crafts
DESCRIPTION:On Saturday\, February 14\, 2026\, from 11:00am-1:00pm\, we invite you to come to the Lewis and Clark Interpretive Center/Betty Strong Encounter Center to celebrate Valentines Day. There will be sugar cookies to decorate and fun Valentine crafts to make. The event is free\, but freewill donations are encouraged.\n\nFamilies will also be able to learn about the Center’s upcoming adventures and activities. We will be starting the new weekly programs on February 21\, 2026. Contact Amy Linder at alinder@siouxcitylcic.com for more information or call 712-224-5242. Find the Center at www.siouxcitylcic.com or www.facebook.com/sclandc
URL:https://siouxcitylcic.com/event/cookies-and-crafts/
LOCATION:Lewis and Clark Interpretive Center\, 900 Larsen Park Road\, Sioux City\, IA\, 51103\, United States
CATEGORIES:Kids’ Event
ATTACH;FMTTYPE=image/jpeg:https://siouxcitylcic.com/wp-content/uploads/2026/02/Cookies-and-Crafts.jpg
END:VEVENT
BEGIN:VEVENT
DTSTART;TZID=America/Chicago:20260221T110000
DTEND;TZID=America/Chicago:20260221T114500
DTSTAMP:20260423T201144
CREATED:20260219T201241Z
LAST-MODIFIED:20260219T201241Z
UID:10001461-1771671600-1771674300@siouxcitylcic.com
SUMMARY:Saturday Class: Who is Percy? (grades K-4)
DESCRIPTION:On Saturday\, February 21\, 2026\, join Ms. Amy at the Lewis and Clark Interpretive Center and find out all about Percy the Pelican. No registration is required for this free class. \nYou will then get to make and paint your very own Percy to take home with you. The class is held from 11:00am-11:45pm for grades K-4.
URL:https://siouxcitylcic.com/event/saturday-class-who-is-percy-grades-k-4/
LOCATION:Lewis and Clark Interpretive Center\, 900 Larsen Park Road\, Sioux City\, IA\, 51103\, United States
CATEGORIES:Kids’ Event
ATTACH;FMTTYPE=image/png:https://siouxcitylcic.com/wp-content/uploads/2026/02/Percys-Pals-Intro-sign.png
END:VEVENT
BEGIN:VEVENT
DTSTART;TZID=America/Chicago:20260221T123000
DTEND;TZID=America/Chicago:20260221T133000
DTSTAMP:20260423T201144
CREATED:20260220T172248Z
LAST-MODIFIED:20260220T172248Z
UID:10001465-1771677000-1771680600@siouxcitylcic.com
SUMMARY:Saturday Class: What is an Adventure Kid?
DESCRIPTION:On Saturday\, February 21\, 2026\, join Ms. Amy at the Lewis and Clark Interpretive Center and find out all about what an Adventure Kid is! No registration is required for this free class. The class is held at 12:30pm for grades 5-8. \nYou will get to make your own Adventure Kid Kit to use for upcoming explorations into the world of Lewis and Clark.  You will be amazed at everything that goes along with it.
URL:https://siouxcitylcic.com/event/saturday-class-what-is-an-adventure-kid/
LOCATION:Lewis and Clark Interpretive Center\, 900 Larsen Park Road\, Sioux City\, IA\, 51103\, United States
CATEGORIES:Kids’ Event
ATTACH;FMTTYPE=image/png:https://siouxcitylcic.com/wp-content/uploads/2026/02/AK-Feb-21.png
END:VEVENT
BEGIN:VEVENT
DTSTART;TZID=America/Chicago:20260228T110000
DTEND;TZID=America/Chicago:20260228T114500
DTSTAMP:20260423T201144
CREATED:20260219T201528Z
LAST-MODIFIED:20260220T164635Z
UID:10001462-1772276400-1772279100@siouxcitylcic.com
SUMMARY:Saturday Class: It's Flower Day (Grades K-4)
DESCRIPTION:On Saturday\, February 28\, 2026\, join Ms. Amy at the Lewis and Clark Interpretive Center and celebrate Flower Day. No registration is required for this free class. The class is held at 11:00am for grades K-4 \nThis class will explore the murals in the museum for the florals that Lewis & Clark discovered along the trail. Participants will then return to the classroom to create their own new flowers!
URL:https://siouxcitylcic.com/event/saturday-class-its-flower-day-grades-k-4/
LOCATION:Lewis and Clark Interpretive Center\, 900 Larsen Park Road\, Sioux City\, IA\, 51103\, United States
CATEGORIES:Kids’ Event
ATTACH;FMTTYPE=image/png:https://siouxcitylcic.com/wp-content/uploads/2026/02/PP-and-AK-Feb-28.png
END:VEVENT
BEGIN:VEVENT
DTSTART;TZID=America/Chicago:20260228T123000
DTEND;TZID=America/Chicago:20260228T133000
DTSTAMP:20260423T201144
CREATED:20260220T164951Z
LAST-MODIFIED:20260220T164951Z
UID:10001463-1772281800-1772285400@siouxcitylcic.com
SUMMARY:Saturday Classes: It’s Flower Day! (grades 5-8)
DESCRIPTION:On Saturday\, February 28\, 2026\, join Ms. Amy at the Lewis and Clark Interpretive Center and celebrate Flower Day. No registration is required for this free class. The class is held at 11:00am for grades K-4 and at 12:30pm for grades 5-8. \nThis class will explore the murals in the museum for the florals that Lewis & Clark discovered along the trail. Participants will then return to the classroom to create their own new flowers!
URL:https://siouxcitylcic.com/event/saturday-classes-its-flower-day-grades-5-8/
LOCATION:Lewis and Clark Interpretive Center\, 900 Larsen Park Road\, Sioux City\, IA\, 51103\, United States
CATEGORIES:Kids’ Event
ATTACH;FMTTYPE=image/png:https://siouxcitylcic.com/wp-content/uploads/2026/02/PP-and-AK-Feb-28.png
END:VEVENT
END:VCALENDAR