BEGIN:VCALENDAR
VERSION:2.0
PRODID:-//Sioux City Lewis and Clark Interpretive Center - ECPv6.15.20//NONSGML v1.0//EN
CALSCALE:GREGORIAN
METHOD:PUBLISH
X-ORIGINAL-URL:https://siouxcitylcic.com
X-WR-CALDESC:Events for Sioux City Lewis and Clark Interpretive Center
REFRESH-INTERVAL;VALUE=DURATION:PT1H
X-Robots-Tag:noindex
X-PUBLISHED-TTL:PT1H
BEGIN:VTIMEZONE
TZID:America/Chicago
BEGIN:DAYLIGHT
TZOFFSETFROM:-0600
TZOFFSETTO:-0500
TZNAME:CDT
DTSTART:20250309T080000
END:DAYLIGHT
BEGIN:STANDARD
TZOFFSETFROM:-0500
TZOFFSETTO:-0600
TZNAME:CST
DTSTART:20251102T070000
END:STANDARD
BEGIN:DAYLIGHT
TZOFFSETFROM:-0600
TZOFFSETTO:-0500
TZNAME:CDT
DTSTART:20260308T080000
END:DAYLIGHT
BEGIN:STANDARD
TZOFFSETFROM:-0500
TZOFFSETTO:-0600
TZNAME:CST
DTSTART:20261101T070000
END:STANDARD
BEGIN:DAYLIGHT
TZOFFSETFROM:-0600
TZOFFSETTO:-0500
TZNAME:CDT
DTSTART:20270314T080000
END:DAYLIGHT
BEGIN:STANDARD
TZOFFSETFROM:-0500
TZOFFSETTO:-0600
TZNAME:CST
DTSTART:20271107T070000
END:STANDARD
END:VTIMEZONE
BEGIN:VEVENT
DTSTART;TZID=America/Chicago:20260404T110000
DTEND;TZID=America/Chicago:20260404T110000
DTSTAMP:20260423T232111
CREATED:20260313T172928Z
LAST-MODIFIED:20260325T161539Z
UID:10001472-1775300400-1775300400@siouxcitylcic.com
SUMMARY:Saturday Class: Life in a Keelboat
DESCRIPTION:On Sunday\, April 4\, join join Ms. Amy at the Lewis and Clark Interpretive Center to learn about life on a keelboat. No registration is required for this free class. The class is held at 11:00am. Admission is free\, but free will donations encouraged. \nWhat would it be like to live in a boat for months? And to have men pushing it upriver all day? Captains Lewis and Clark had to do just that! Let’s figure out what was the size of the Captain’s keelboat cabin. Then maybe we can make one of our own! \nThe Lewis and Clark Interpretive Center/Betty Strong Encounter Center was built and is sustained by the Missouri River Historic Development Organization as a gift of history to the community. For more information call 712-224-5242. Find the Center at www.siouxcitylcic.com or www.facebook.com/sclandc
URL:https://siouxcitylcic.com/event/saturday-class-life-in-a-keelboat/
LOCATION:Lewis and Clark Interpretive Center\, 900 Larsen Park Road\, Sioux City\, IA\, 51103\, United States
CATEGORIES:Kids’ Event
ATTACH;FMTTYPE=image/png:https://siouxcitylcic.com/wp-content/uploads/2026/03/April-4-Life-in-a-Keelboat-2.png
END:VEVENT
BEGIN:VEVENT
DTSTART;TZID=America/Chicago:20260411T110000
DTEND;TZID=America/Chicago:20260411T114500
DTSTAMP:20260423T232111
CREATED:20260318T163458Z
LAST-MODIFIED:20260318T163458Z
UID:10001473-1775905200-1775907900@siouxcitylcic.com
SUMMARY:Saturday Class: Say it With a Picture!
DESCRIPTION:How do you pass down stories to future generations if you don’t have books? On Saturday\, April 11\, join Ms. Amy at the Lewis and Clark Interpretive Center to learn how native tribes shared their stories. No registration is required for this free class. The class is held at 11:00am. Admission is free\, but free will donations encouraged. \nThe tribes painted on animal hides\, mainly buffalo\, to record their stories.  They painted winter counts to record the events of the year. Some paintings reflected successful hunts or battles. You will get to create a record of a special event of your own (but not on real hides!) \nThe Lewis and Clark Interpretive Center/Betty Strong Encounter Center was built and is sustained by the Missouri River Historic Development Organization as a gift of history to the community. For more information call 712-224-5242. Find the Center at www.siouxcitylcic.com or www.facebook.com/sclandc
URL:https://siouxcitylcic.com/event/saturday-class-say-it-with-a-picture/
LOCATION:Lewis and Clark Interpretive Center\, 900 Larsen Park Road\, Sioux City\, IA\, 51103\, United States
CATEGORIES:Kids’ Event
ATTACH;FMTTYPE=image/png:https://siouxcitylcic.com/wp-content/uploads/2026/03/April-11-Say-it-with-a-Picture.png
END:VEVENT
BEGIN:VEVENT
DTSTART;TZID=America/Chicago:20260418T110000
DTEND;TZID=America/Chicago:20260418T110000
DTSTAMP:20260423T232111
CREATED:20260318T163906Z
LAST-MODIFIED:20260325T161753Z
UID:10001474-1776510000-1776510000@siouxcitylcic.com
SUMMARY:Saturday Class: I Wonder What Would Happen If….
DESCRIPTION:On Saturday\, April 18\, 2026\, at 11:00am\, join Ms. Amy at the Lewis and Clark Interpretive Center to do some experiments like the Corps of Discovery. No registration is required for this free class. The class is held at 11:00am. Admission is free\, but free will donations encouraged. \nLewis and Clark were very curious explorers.  They conducted many experiments during the journey. So if you are a curious explorer and want to try some experiments join us on Saturday\, April 18. \nThe Lewis and Clark Interpretive Center/Betty Strong Encounter Center was built and is sustained by the Missouri River Historic Development Organization as a gift of history to the community. For more information call 712-224-5242. Find the Center at www.siouxcitylcic.com or www.facebook.com/sclandc
URL:https://siouxcitylcic.com/event/saturday-class-i-wonder-what-would-happen-if/
LOCATION:Lewis and Clark Interpretive Center\, 900 Larsen Park Road\, Sioux City\, IA\, 51103\, United States
CATEGORIES:Kids’ Event
ATTACH;FMTTYPE=image/png:https://siouxcitylcic.com/wp-content/uploads/2026/03/April-18-I-Wonder-What-Would-Happen-If-1.png
END:VEVENT
BEGIN:VEVENT
DTSTART;TZID=America/Chicago:20260425T110000
DTEND;TZID=America/Chicago:20260425T110000
DTSTAMP:20260423T232111
CREATED:20260318T164158Z
LAST-MODIFIED:20260325T161854Z
UID:10001475-1777114800-1777114800@siouxcitylcic.com
SUMMARY:Saturday Class: Pssst…Pass it On!
DESCRIPTION:Have you ever kept a journal? On Saturday\, April 25\, 2026\, at 11:00am\, join Ms. Amy at the Lewis and Clark Interpretive Center to learn about recording entries in a journal. No registration is required for this free class. The class is held at 11:00am. Admission is free\, but free will donations encouraged. \nPresident Jefferson tasked Lewis and Clark to keep journals of the expedition. They kept two copies in case one got lost. The sergeants also kept a journal. Why? Because it was important to record the many plants\, animals\, landscapes\, and more that they encountered. You will get a journal so you can make a record like the captains! \nThe Lewis and Clark Interpretive Center/Betty Strong Encounter Center was built and is sustained by the Missouri River Historic Development Organization as a gift of history to the community. For more information call 712-224-5242. Find the Center at www.siouxcitylcic.com or www.facebook.com/sclandc
URL:https://siouxcitylcic.com/event/saturday-class-pssstpass-it-on/
LOCATION:Lewis and Clark Interpretive Center\, 900 Larsen Park Road\, Sioux City\, IA\, 51103\, United States
CATEGORIES:Kids’ Event
ATTACH;FMTTYPE=image/png:https://siouxcitylcic.com/wp-content/uploads/2026/03/April-25-Pssst.Pass-it-On-1.png
END:VEVENT
BEGIN:VEVENT
DTSTART;TZID=America/Chicago:20260502T110000
DTEND;TZID=America/Chicago:20260502T110000
DTSTAMP:20260423T232111
CREATED:20260331T175107Z
LAST-MODIFIED:20260331T175107Z
UID:10001476-1777719600-1777719600@siouxcitylcic.com
SUMMARY:Saturday Class: A Tisket\, a Tasket\, Let’s Make a Basket!
DESCRIPTION:Have you made a basket? On Saturday\, May 2\, 2026\, at 11:00am\, join Ms. Amy at the Lewis and Clark Interpretive Center to learn about the unique skill of Basket Weaving. No registration is required for this free class. Admission is free\, but free will donations encouraged. \nNative women needed to know many skills. One very important skill was basket weaving. Traditionally\, baskets were essential for survival\, used for gathering\, storing\, transporting\, and cooking food. Today you can learn the unique skill of basket weaving! \nThe Lewis and Clark Interpretive Center/Betty Strong Encounter Center was built and is sustained by the Missouri River Historic Development Organization as a gift of history to the community. For more information call 712-224-5242. Find the Center at www.siouxcitylcic.com or www.facebook.com/sclandc
URL:https://siouxcitylcic.com/event/saturday-class-a-tisket-a-tasket-lets-make-a-basket/
LOCATION:Lewis and Clark Interpretive Center\, 900 Larsen Park Road\, Sioux City\, IA\, 51103\, United States
CATEGORIES:Kids’ Event
ATTACH;FMTTYPE=image/png:https://siouxcitylcic.com/wp-content/uploads/2026/03/May-2-Make-a-Basket.png
END:VEVENT
BEGIN:VEVENT
DTSTART;TZID=America/Chicago:20260509T110000
DTEND;TZID=America/Chicago:20260509T110000
DTSTAMP:20260423T232111
CREATED:20260331T175821Z
LAST-MODIFIED:20260331T175821Z
UID:10001477-1778324400-1778324400@siouxcitylcic.com
SUMMARY:Saturday Class: Beads\, Beads\, Beads!
DESCRIPTION:Have you ever used beads to make jewelry or to decorate a shirt? On Saturday\, May 9\, 2026\, at 11:00am\, join Ms. Amy at the Lewis and Clark Interpretive Center to learn about the unique skill of Beading. No registration is required for this free class. Admission is free\, but free will donations encouraged. \nNative Americans have used beads for thousands of years. The Natives had long used beads made from stones\, shells\, and bone as currency for trading and ceremonies. Lewis and Clark gave gifts of glass beads to the Natives in trade for food\, canoes\, and horses. Beads were used to decorate clothing and to make jewelry\, moccasins\, bags\, and ceremonial regalia. Today you can learn about the unique skill of beading! \nThe Lewis and Clark Interpretive Center/Betty Strong Encounter Center was built and is sustained by the Missouri River Historic Development Organization as a gift of history to the community. For more information call 712-224-5242. Find the Center at www.siouxcitylcic.com or www.facebook.com/sclandc
URL:https://siouxcitylcic.com/event/saturday-class-beads-beads-beads/
LOCATION:Lewis and Clark Interpretive Center\, 900 Larsen Park Road\, Sioux City\, IA\, 51103\, United States
CATEGORIES:Kids’ Event
ATTACH;FMTTYPE=image/png:https://siouxcitylcic.com/wp-content/uploads/2026/03/May-9-Beads-Beads-Beads.png
END:VEVENT
END:VCALENDAR