BEGIN:VCALENDAR
VERSION:2.0
PRODID:-//Sioux City Lewis and Clark Interpretive Center - ECPv6.15.20//NONSGML v1.0//EN
CALSCALE:GREGORIAN
METHOD:PUBLISH
X-ORIGINAL-URL:https://siouxcitylcic.com
X-WR-CALDESC:Events for Sioux City Lewis and Clark Interpretive Center
REFRESH-INTERVAL;VALUE=DURATION:PT1H
X-Robots-Tag:noindex
X-PUBLISHED-TTL:PT1H
BEGIN:VTIMEZONE
TZID:America/Chicago
BEGIN:DAYLIGHT
TZOFFSETFROM:-0600
TZOFFSETTO:-0500
TZNAME:CDT
DTSTART:20230312T080000
END:DAYLIGHT
BEGIN:STANDARD
TZOFFSETFROM:-0500
TZOFFSETTO:-0600
TZNAME:CST
DTSTART:20231105T070000
END:STANDARD
BEGIN:DAYLIGHT
TZOFFSETFROM:-0600
TZOFFSETTO:-0500
TZNAME:CDT
DTSTART:20240310T080000
END:DAYLIGHT
BEGIN:STANDARD
TZOFFSETFROM:-0500
TZOFFSETTO:-0600
TZNAME:CST
DTSTART:20241103T070000
END:STANDARD
BEGIN:DAYLIGHT
TZOFFSETFROM:-0600
TZOFFSETTO:-0500
TZNAME:CDT
DTSTART:20250309T080000
END:DAYLIGHT
BEGIN:STANDARD
TZOFFSETFROM:-0500
TZOFFSETTO:-0600
TZNAME:CST
DTSTART:20251102T070000
END:STANDARD
END:VTIMEZONE
BEGIN:VEVENT
DTSTART;TZID=America/Chicago:20240801T180000
DTEND;TZID=America/Chicago:20240801T193000
DTSTAMP:20260424T224519
CREATED:20240410T180353Z
LAST-MODIFIED:20240410T215006Z
UID:10000883-1722535200-1722540600@siouxcitylcic.com
SUMMARY:Preventing Food Deserts
DESCRIPTION:What is a food desert? The term “desert” can be misleading because most of us imagine a wasteland\, where not much can grow. But a food desert is very different. According to the Oxford English Dictionary\, a food desert is an urban area in which it is difficult to buy affordable or good-quality fresh food. Millions of Americans live in a food desert\, where there is plenty of food in their neighborhood\, but none of it healthy. Together we will learn how we can change our own communities from food deserts into a food oasis. \nThe Growers’ Academy is a sixteen-week course which includes classes on topics such as soil preparation\, nutrition\, and community responsibility. Each class includes a 45-minute classroom lesson and 45 minutes working in the Center’s new Community Garden. The Growers’ Academy and Community Garden are sponsored and fully funded by our partners\, CF Industries. \n[ninja_form id=41]
URL:https://siouxcitylcic.com/event/food-deserts/
LOCATION:Lewis and Clark Interpretive Center\, 900 Larsen Park Road\, Sioux City\, IA\, 51103\, United States
CATEGORIES:Kids’ Event
ATTACH;FMTTYPE=image/png:https://siouxcitylcic.com/wp-content/uploads/2024/04/Growers-Academy-billboard-1920-x-1080-px-14.png
END:VEVENT
BEGIN:VEVENT
DTSTART;TZID=America/Chicago:20240802T190000
DTEND;TZID=America/Chicago:20240802T203000
DTSTAMP:20260424T224519
CREATED:20240709T213556Z
LAST-MODIFIED:20240711T132701Z
UID:10000901-1722625200-1722630600@siouxcitylcic.com
SUMMARY:Showtune: Celebrating the Words & Music of Jerry Herman
DESCRIPTION:The Lewis and Clark Interpretive Center invites you to its next Summer Series Outdoor Shows being held on the “Spirit of Discovery Outdoor Stage.” Admission is free. The audience will be positioned in a grassy area of Center’s campus\, so they are encouraged to bring lawn chairs or blankets\, as well as refreshments. In case of rain\, the show will be moved inside to the auditorium. \nOn Friday\, August 2 and Saturday\, August 3 at 7:00pm\, come be regaled by Showtune: The Music of Jerry Herman. This revue showcases one of the most successful Broadway songwriters of his time and the range of his songs\, from the playfully comic to the tenderly bittersweet. The show is filled with surprises and rides like a roller coaster! \nPerformed by talented local singers\, you will thoroughly enjoy hearing familiar favorites and discovering soon to be favorites.  You will hear songs from his well-known Broadway musicals Mame\, Hello Dolly\, La Cage aux Folles\, and from his lesser-known shows Mack and Mabel\, Dear World\, and A Day in Hollywood.  \n# # # \nFor more information call 712-224-5242. Find the Center at www.siouxcitylcic.com or www.facebook.com/sclandc
URL:https://siouxcitylcic.com/event/showtune-celebrating-the-words-music-of-jerry-herman/
LOCATION:Outdoor “Spirit of Discovery” Stage\, 900 Larsen Park Road\, Sioux City\, IA\, 51103\, United States
ATTACH;FMTTYPE=image/jpeg:https://siouxcitylcic.com/wp-content/uploads/2024/07/Showtune-1.jpg
END:VEVENT
BEGIN:VEVENT
DTSTART;TZID=America/Chicago:20240803T130000
DTEND;TZID=America/Chicago:20240803T150000
DTSTAMP:20260424T224519
CREATED:20240126T200136Z
LAST-MODIFIED:20240407T033702Z
UID:10000846-1722690000-1722697200@siouxcitylcic.com
SUMMARY:Percy's Pals: Geology
DESCRIPTION:What makes the Loess Hills\, or a mountain? Geology is the scientific study of rocks and minerals which make our landscape. Students will learn about all the rocks\, minerals\, and fossils found in our area. Together we will learn how to look up the names of particular rocks\, study uses for different minerals\, and then students will break open their very own geodes to take home! \nStudents in Percy’s Pals will be divided into two groups\, based on school grade. Kindergarten through Second Grade will meet at 1:00 p.m.\, and Third through Fifth Grades will meet at 2:00 p.m. Each section of students will meet for one hour\, once a month to engage in a series of scientific adventures inspired by the Lewis and Clark Expedition. Programs will include topics such as Jefferson’s gadgets\, mapmaking\, geology\, plant and animal classification\, and medicine and first aid. \n[ninja_form id=’39’]
URL:https://siouxcitylcic.com/event/percys-pals-geology/
LOCATION:Lewis and Clark Interpretive Center\, 900 Larsen Park Road\, Sioux City\, IA\, 51103\, United States
CATEGORIES:Kids’ Event
ATTACH;FMTTYPE=image/png:https://siouxcitylcic.com/wp-content/uploads/2024/01/PP-Geology.png
END:VEVENT
BEGIN:VEVENT
DTSTART;TZID=America/Chicago:20240803T190000
DTEND;TZID=America/Chicago:20240803T203000
DTSTAMP:20260424T224519
CREATED:20240711T132828Z
LAST-MODIFIED:20240711T133159Z
UID:10001270-1722711600-1722717000@siouxcitylcic.com
SUMMARY:Showtune: Celebrating the Words & Music of Jerry Herman
DESCRIPTION:The Lewis and Clark Interpretive Center invites you to its next Summer Series Outdoor Shows being held on the “Spirit of Discovery Outdoor Stage.” Admission is free. The audience will be positioned in a grassy area of Center’s campus\, so they are encouraged to bring lawn chairs or blankets\, as well as refreshments. In case of rain\, the show will be moved inside to the auditorium. \nOn Friday\, August 2 and Saturday\, August 3 at 7:00pm\, come be regaled by Showtune: The Music of Jerry Herman. This revue showcases one of the most successful Broadway songwriters of his time and the range of his songs\, from the playfully comic to the tenderly bittersweet. The show is filled with surprises and rides like a roller coaster! \nPerformed by talented local singers\, you will thoroughly enjoy hearing familiar favorites and discovering soon to be favorites.  You will hear songs from his well-known Broadway musicals Mame\, Hello Dolly\, La Cage aux Folles\, and from his lesser-known shows Mack and Mabel\, Dear World\, and A Day in Hollywood.  \n# # # \nFor more information call 712-224-5242. Find the Center at www.siouxcitylcic.com or www.facebook.com/sclandc
URL:https://siouxcitylcic.com/event/showtune-celebrating-the-words-music-of-jerry-herman-2/
LOCATION:Outdoor “Spirit of Discovery” Stage\, 900 Larsen Park Road\, Sioux City\, IA\, 51103\, United States
CATEGORIES:Adults/Families’ Event
ATTACH;FMTTYPE=image/jpeg:https://siouxcitylcic.com/wp-content/uploads/2024/07/Showtune-1.jpg
END:VEVENT
BEGIN:VEVENT
DTSTART;TZID=America/Chicago:20240804T140000
DTEND;TZID=America/Chicago:20240804T150000
DTSTAMP:20260424T224519
CREATED:20240714T210801Z
LAST-MODIFIED:20240714T210801Z
UID:10001272-1722780000-1722783600@siouxcitylcic.com
SUMMARY:Cattle Trails and Songs of the West
DESCRIPTION:On August 4 at 2:00 PM Joan Wells and Kris Simon will bring to the Betty Strong Encounter Center an entertaining living history performance about the Great Western Cattle Trail and the origin of western music through their “Cattle Trails and Songs of The West.” \nThe duo sings the songs of the early day cowboys. In 1874 cattle drives brought hundreds of thousands of cattle to Nebraska by way of the “Great Western Cattle Trail.”  Herds were gathered near San Antonio\, Texas and driven up to a rail head in Ogallala\, Nebraska.  There\, many of them were loaded onto trains and taken east to Chicago and St. Louis.  During these four-month drives\, cowboys would sing to the cattle to calm them and prevent stampedes. \nThey will talk about how the silver screen cowboys popularized many western songs such as The Streets Of Laredo\, Home On The Range\, Sioux City Sue\, Back In The Saddle Again\, Tumbling Tumbleweeds\, Ride Em’ Cowboy\, Cowtown\, and San Antonio Rose. Western theme music continues to be written and sung today.  Some of the present western bands influenced by the cowboy songs include Riders In The Sky\, Sons Of The Pioneers\, Texas Playboys\, Asleep At the Wheel\, and the Texas Trail Hands.
URL:https://siouxcitylcic.com/event/cattle-trails-and-songs-of-the-west/
LOCATION:Lewis and Clark Interpretive Center\, 900 Larsen Park Road\, Sioux City\, IA\, 51103\, United States
CATEGORIES:Adults/Families’ Event
ATTACH;FMTTYPE=image/jpeg:https://siouxcitylcic.com/wp-content/uploads/2024/07/Wells-and-Simon.jpg
END:VEVENT
BEGIN:VEVENT
DTSTART;TZID=America/Chicago:20240808T180000
DTEND;TZID=America/Chicago:20240808T193000
DTSTAMP:20260424T224519
CREATED:20240410T181022Z
LAST-MODIFIED:20240410T215040Z
UID:10000884-1723140000-1723145400@siouxcitylcic.com
SUMMARY:Community Garden
DESCRIPTION:One key way to combat food deserts is to establish a Community Garden. We are lucky enough to put our efforts in the Growers’ Academy to good use\, by providing free\, fresh produce to our community. But how do you start a Community Garden somewhere else? Together we will learn what we can do in our community to establish and maintain a community garden. \nThe Growers’ Academy is a sixteen-week course which includes classes on topics such as soil preparation\, nutrition\, and community responsibility. Each class includes a 45-minute classroom lesson and 45 minutes working in the Center’s new Community Garden. The Growers’ Academy and Community Garden are sponsored and fully funded by our partners\, CF Industries. \n[ninja_form id=41]
URL:https://siouxcitylcic.com/event/community-garden/
LOCATION:Lewis and Clark Interpretive Center\, 900 Larsen Park Road\, Sioux City\, IA\, 51103\, United States
CATEGORIES:Kids’ Event
ATTACH;FMTTYPE=image/png:https://siouxcitylcic.com/wp-content/uploads/2024/04/Growers-Academy-billboard-1920-x-1080-px-15.png
END:VEVENT
BEGIN:VEVENT
DTSTART;TZID=America/Chicago:20240809T100000
DTEND;TZID=America/Chicago:20240809T230000
DTSTAMP:20260424T224519
CREATED:20240723T204436Z
LAST-MODIFIED:20240723T204436Z
UID:10001275-1723197600-1723244400@siouxcitylcic.com
SUMMARY:Sounds of African Music
DESCRIPTION:Looking for a unique experience for the kids?  Come join us on Friday\, August 9 at 10am—11am at the Betty Strong Encounter Center to meet drummer\, performer\, and educator Kofi Dennis. He believes in the concept of learning through play\, so his interactive hands-on presentation of West African stories\, poetry\, and drumming will introduce instruments\, music\, rhythm and movements from West Africa. Some audience members may get a chance to play a drum. Admission is free. \nKofi Dennis earned a degree in Early Childhood Education at the Komenda Teaching College\, University of Cape Coast in Ghana\, West Africa\, and a degree in Theater Arts (creative dramatics) from the School of Performing Arts at the University of Ghana. Kofi has entertained as a drummer\, storyteller\, singer\, and dancer at venues such as the Kennedy Center\, Discovery Theater\, the Smithsonian Folklife Festival\, and Wolf Trap’s Theater in the Woods and Filene Center. He has taught creative drama at the Montessori School of Northern Virginia in Annandale for the past 10 years and has been a Wolf Trap Teaching Artist since 1998. Kofi is Wolf Trap Master Teaching Artist with Wolf Trap Foundation for the Performing Arts. He has been with Wolf Trap for almost 24 years. \nKofi Dennis is coming to Sioux City for the third time to feature as guest artist at the 9th Annual Siouxland African Festival (SA-fest 2024)\, which takes place this year at the Sioux City Convention Center on Saturday\, August 10\, 2024\,  from 1pm-8pm. The event is a free festival of diversity and culture of some selected African Countries\, especially\, African countries represented in Siouxland.
URL:https://siouxcitylcic.com/event/sounds-of-african-music/
LOCATION:Lewis and Clark Interpretive Center\, 900 Larsen Park Road\, Sioux City\, IA\, 51103\, United States
ATTACH;FMTTYPE=image/jpeg:https://siouxcitylcic.com/wp-content/uploads/2024/07/Kofi-Dennis.jpg
END:VEVENT
BEGIN:VEVENT
DTSTART;TZID=America/Chicago:20240810T100000
DTEND;TZID=America/Chicago:20240810T160000
DTSTAMP:20260424T224519
CREATED:20240126T154049Z
LAST-MODIFIED:20240126T154111Z
UID:10000840-1723284000-1723305600@siouxcitylcic.com
SUMMARY:Lewis and Clark Kids' Club: Elkhorn River Kayaking
DESCRIPTION:The Lewis and Clark Kids’ Club will take a kayaking trip down the Elkhorn River in Norfolk\, Nebraska\, on Saturday\, August 10\, 2024. In the true spirit of Lewis and Clark we will have an outdoor adventure on the Elkhorn River. Be prepared to become one with nature as we navigate past nesting Bald Eagles\, cranes\, and beautiful scenery. Transportation and admission are provided but students are asked to bring their own picnic lunch. \n10:00 a.m. Board tour bus at LCIC | 11:30 a.m. Picnic Lunch in Norfolk | 12:30 p.m. Elkhorn River Kayaking (provided by North Fork Outfitting) | 2:30 p.m. Board tour bus | 4:00 p.m. Return to LCIC \n[ninja_form id=’38’] \nThe Lewis and Clark Kids’ Club is a new program for students in 6th\, 7th\, or 8th grade. Each month of the spring/summer and fall/winter sessions\, students will go on a field trip adventure. Strict supervision is provided and volunteer parent-chaperones are always welcome! Parents of students participating will be expected to sign all necessary waivers and permission forms for each of the field trips. The 2024 spring/summer session field trips are as follows: \nApril 20\, 2024: Arbor Day Farm\, Nebraska City\, Nebraska \nMay 18\, 2024: National Music Museum and Washington Pavilion\, Vermillion and Sioux Falls\, South Dakota \nJune 15\, 2024: Wayne State College Planetarium\, Wayne\, Nebraska \nJuly 20\, 2024: Prehistoric Indian Village\, Mitchell\, South Dakota \nAugust 10\, 2024: Elkhorn River Kayaking\, Norfolk\, Nebraska \nSeptember 21\, 2024: Hometown Tourist\, Sioux City\, Iowa
URL:https://siouxcitylcic.com/event/lewis-and-clark-kids-club-elkhorn-river-kayaking/
LOCATION:Lewis and Clark Interpretive Center\, 900 Larsen Park Road\, Sioux City\, IA\, 51103\, United States
CATEGORIES:Kids’ Event
ATTACH;FMTTYPE=image/png:https://siouxcitylcic.com/wp-content/uploads/2024/01/LCKC-Elkhorn-River-Kayaking.png
END:VEVENT
BEGIN:VEVENT
DTSTART;TZID=America/Chicago:20240811T140000
DTEND;TZID=America/Chicago:20240811T150000
DTSTAMP:20260424T224519
CREATED:20240723T205733Z
LAST-MODIFIED:20240723T205733Z
UID:10001276-1723384800-1723388400@siouxcitylcic.com
SUMMARY:Radio Rangers will play “Music that Inspired Us”
DESCRIPTION:On Sunday\, August 11\, 2024\, at 2:00 pm in the Betty Strong Encounter Center’s Stanley Evans Auditorium\, come hear the Radio Rangers play “Music that Inspired Us.” The concert includes favorite songs from various singer/songwriters as well as some Radio Ranger originals: Carole King\, John Denver\, Willie Nelson\, and Paul McCartney. \n  \nThe Radio Rangers are a two-piece band playing live music that includes Americana original songs\, and classic covers. Randy sings\, plays drums and keyboard lead and Donna sings and plays guitar and bass. Retired music teachers that formed the current duo after retirement\, they have been playing together in bands since 1979. They were the founding members of the country/pop band “Prairie Fire” and did a Midwest tour in 1988 with a group called “Radio Flyers” and later became members of the party band “Time Bandits”. Radio Rangers has played wineries\, night clubs\, parties and celebrations in many Midwest states. \n  \nThe music they play helps explain why they started making music\, writing songs and continue to make music.  They share how and why learning to write and record their own music and finding a place to sell and play it while working full time as public-school music educators was important.
URL:https://siouxcitylcic.com/event/radio-rangers-will-play-music-that-inspired-us/
LOCATION:Betty Strong Encounter Center\, 900 Larsen Park Road\, Sioux City\, IA\, 51103\, United States
ATTACH;FMTTYPE=image/jpeg:https://siouxcitylcic.com/wp-content/uploads/2024/07/Radio-Rangers.jpg
END:VEVENT
BEGIN:VEVENT
DTSTART;TZID=America/Chicago:20240815T180000
DTEND;TZID=America/Chicago:20240815T193000
DTSTAMP:20260424T224519
CREATED:20240410T181839Z
LAST-MODIFIED:20240410T215120Z
UID:10000885-1723744800-1723750200@siouxcitylcic.com
SUMMARY:Graduation Picnic
DESCRIPTION:At this outdoor event for Growers’ Academy students and their families\, the Center will recognize all the participants have learned and accomplished over the summer. If there is excess food from the garden the students have grown\, it will be served at this celebratory picnic\, along with other treats and refreshments. \nThe Growers’ Academy is a sixteen-week course which includes classes on topics such as soil preparation\, nutrition\, and community responsibility. Each class includes a 45-minute classroom lesson and 45 minutes working in the Center’s new Community Garden. The Growers’ Academy and Community Garden are sponsored and fully funded by our partners\, CF Industries. \n[ninja_form id=41]
URL:https://siouxcitylcic.com/event/picnic/
LOCATION:Lewis and Clark Interpretive Center\, 900 Larsen Park Road\, Sioux City\, IA\, 51103\, United States
CATEGORIES:Kids’ Event
ATTACH;FMTTYPE=image/png:https://siouxcitylcic.com/wp-content/uploads/2024/04/Growers-Academy-billboard-1920-x-1080-px-16.png
END:VEVENT
BEGIN:VEVENT
DTSTART;TZID=America/Chicago:20240816T190000
DTEND;TZID=America/Chicago:20240816T200000
DTSTAMP:20260424T224519
CREATED:20240731T203618Z
LAST-MODIFIED:20240731T203618Z
UID:10001278-1723834800-1723838400@siouxcitylcic.com
SUMMARY:Prairie Winds Jazz Ensemble
DESCRIPTION:On Friday\, August 16\, 2024\, at 7:00 pm\, come to the Lewis and Clark Interpretive Center’s Spirit of Discovery Outdoor Stage for a free summer show. Be entertained by the Prairie Winds Jazz Ensemble as they perform a concert that will bring the Swing era to life. \nThis 17-piece group under the direction of Kevin Linder will play some patriotic medleys and swing tunes\, a mix of big band classics from the 1930s\, 40s and 50s. Musicians from across northwest Iowa\, most within a 30-mile radius of Akron\, perform in the band. \nAdmission is free. The audience will be positioned in a grassy area of Center’s campus\, so they are encouraged to bring lawn chairs or blankets\, as well as refreshments. In case of rain\, the show will be moved inside to the auditorium.
URL:https://siouxcitylcic.com/event/prairie-winds-jazz-ensemble/
LOCATION:Lewis and Clark Interpretive Center\, 900 Larsen Park Road\, Sioux City\, IA\, 51103\, United States
CATEGORIES:Adults/Families’ Event
ATTACH;FMTTYPE=image/png:https://siouxcitylcic.com/wp-content/uploads/2024/07/Prairie-Winds.png
END:VEVENT
BEGIN:VEVENT
DTSTART;TZID=America/Chicago:20240818T140000
DTEND;TZID=America/Chicago:20240818T150000
DTSTAMP:20260424T224519
CREATED:20240726T181459Z
LAST-MODIFIED:20240726T181459Z
UID:10001277-1723989600-1723993200@siouxcitylcic.com
SUMMARY:“’Buck ‘n Bill’ Bring Tunes from ‘Old Nebraska Way to the State of I-O-Way’”
DESCRIPTION:Buck ‘n Bill\, an acoustic guitar/vocal duo\, had a fantastic crowd and a bunch of fun at their debut appearance in April.  They’re headed up the trail again\, destination Betty Strong Encounter Center stage\, Sunday\, August 18 at 2:00 PM. \nBuck ‘n Bill affectionately reference their trek across the “Mighty Mo” as the“Old Nebraska Way to the State of I-O-Way”. You never know exactly what these “cowboys” will perform\, but more likely you will hear an eclectic mixture of country\, folk\, and blues. You will find their saddle bags packed with songs from the likes of Bob Wills\, Carl Perkins\, Neil Young\, Hank Williams\, Merle Haggard\, John Prine\, and a couple of originals sprinkled in the mix. \nMark “Buck” Buckingham\, a seasoned Midwest player\, is an accomplished guitarist\, banjo\, dobro (an acoustic guitar)\, and piano player who “Sings from the Heart.”  “Bill” Settell\, a “recovering drummer\,” has a passion for playing his acoustic and a desire to “Bring out the Soul” in every song he sings. \nPlease join them in August: “Let’s have some fun!”
URL:https://siouxcitylcic.com/event/buck-n-bill-bring-tunes-from-old-nebraska-way-to-the-state-of-i-o-way/
LOCATION:Lewis and Clark Interpretive Center\, 900 Larsen Park Road\, Sioux City\, IA\, 51103\, United States
CATEGORIES:Adults/Families’ Event
ATTACH;FMTTYPE=image/png:https://siouxcitylcic.com/wp-content/uploads/2024/07/Buck-n-BIll-August-2024.png
END:VEVENT
BEGIN:VEVENT
DTSTART;TZID=America/Chicago:20240825T140000
DTEND;TZID=America/Chicago:20240825T150000
DTSTAMP:20260424T224519
CREATED:20240803T195447Z
LAST-MODIFIED:20240806T162416Z
UID:10001279-1724594400-1724598000@siouxcitylcic.com
SUMMARY:Bill Peterson: Have Fiddle\, Will Travel
DESCRIPTION:On Sunday\, August 25\, at 2:00 PM at the Betty Strong Encounter Center\, Bill Peterson  will share “Have Fiddle\, Will Travel.” Admission is free with a reception to follow. \nPeterson along with his musical partners and traveling companions will be telling stories and playing tunes from travels to different fiddling meccas in Europe\, Canada and the United States. He has been to Ireland\, Scotland\, Shetland\, Denmark\, Norway\, Sweden and Cape Breton in Canada to study different fiddling cultures and to play music with the locals. He has attended the “American Festival of Fiddle Tunes” in Port Townsend\, Washington twice and many other festivals and concerts around the country. \nA recent article in the South Dakota Magazine stated\, “Along with friends and apprentices\, Peterson is continuing the centuries old style of Missouri Valley bluegrass music that has evolved through generations of musicians.” Peterson is from Canton\, South Dakota and has been fiddling for over 40 years and plays Scandinavian\, Celtic and old-time fiddle tunes.
URL:https://siouxcitylcic.com/event/bill-peterson-have-fiddle-will-travel/
LOCATION:Betty Strong Encounter Center\, 900 Larsen Park Road\, Sioux City\, IA\, 51103\, United States
CATEGORIES:Adults/Families’ Event
ATTACH;FMTTYPE=image/jpeg:https://siouxcitylcic.com/wp-content/uploads/2024/08/EVENTS-website-graphic-sizing-16-x-9-1.jpg
END:VEVENT
END:VCALENDAR