BEGIN:VCALENDAR
VERSION:2.0
PRODID:-//Sioux City Lewis and Clark Interpretive Center - ECPv6.15.20//NONSGML v1.0//EN
CALSCALE:GREGORIAN
METHOD:PUBLISH
X-ORIGINAL-URL:https://siouxcitylcic.com
X-WR-CALDESC:Events for Sioux City Lewis and Clark Interpretive Center
REFRESH-INTERVAL;VALUE=DURATION:PT1H
X-Robots-Tag:noindex
X-PUBLISHED-TTL:PT1H
BEGIN:VTIMEZONE
TZID:America/Chicago
BEGIN:DAYLIGHT
TZOFFSETFROM:-0600
TZOFFSETTO:-0500
TZNAME:CDT
DTSTART:20230312T080000
END:DAYLIGHT
BEGIN:STANDARD
TZOFFSETFROM:-0500
TZOFFSETTO:-0600
TZNAME:CST
DTSTART:20231105T070000
END:STANDARD
BEGIN:DAYLIGHT
TZOFFSETFROM:-0600
TZOFFSETTO:-0500
TZNAME:CDT
DTSTART:20240310T080000
END:DAYLIGHT
BEGIN:STANDARD
TZOFFSETFROM:-0500
TZOFFSETTO:-0600
TZNAME:CST
DTSTART:20241103T070000
END:STANDARD
BEGIN:DAYLIGHT
TZOFFSETFROM:-0600
TZOFFSETTO:-0500
TZNAME:CDT
DTSTART:20250309T080000
END:DAYLIGHT
BEGIN:STANDARD
TZOFFSETFROM:-0500
TZOFFSETTO:-0600
TZNAME:CST
DTSTART:20251102T070000
END:STANDARD
END:VTIMEZONE
BEGIN:VEVENT
DTSTART;TZID=America/Chicago:20241201T140000
DTEND;TZID=America/Chicago:20241201T150000
DTSTAMP:20260424T151941
CREATED:20241026T174421Z
LAST-MODIFIED:20241026T185347Z
UID:10001307-1733061600-1733065200@siouxcitylcic.com
SUMMARY:New Horizon’s Band Concert at Lewis and Clark Interpretive Center
DESCRIPTION:On Sunday\, December 1\, 2024\, holiday music will ring out when New Horizon’s Band of Sioux City presents its concert under the direction of Benjamin Mauritz at 2:00 pm at the Betty Strong Encounter Center. For this concert\, the band will play a variety of music including carols\, classical\, pop\, jazz\, and novelty pieces. Admission is free; a reception will follow. \n  \nThe New Horizon’s Band of Sioux City began more than 10 years ago with six members. The New Horizon’s Band currently consists of about 28 members from the Siouxland area. It is one of more than 200 U.S. programs in the New Horizon’s International Music Association\, which originated in 1991 at the Eastman School of Music\, Rochester\, NY. The Association’s sole purpose is to provide musical opportunities for adults. New Horizon’s Band of Sioux City includes musicians with limited experience as well as those who participated in high school or college bands.
URL:https://siouxcitylcic.com/event/new-horizons-band-concert-at-lewis-and-clark-interpretive-center/
LOCATION:Betty Strong Encounter Center\, 900 Larsen Park Road\, Sioux City\, IA\, 51103\, United States
CATEGORIES:Adults/Families’ Event
ATTACH;FMTTYPE=image/jpeg:https://siouxcitylcic.com/wp-content/uploads/2024/10/New-Horizons.jpg
ORGANIZER;CN="Education Coordinator":MAILTO:lcuser@siouxcitylcic.com
END:VEVENT
BEGIN:VEVENT
DTSTART;TZID=America/Chicago:20241207T120000
DTEND;TZID=America/Chicago:20241207T130000
DTSTAMP:20260424T151941
CREATED:20241124T211208Z
LAST-MODIFIED:20241124T211512Z
UID:10001312-1733572800-1733576400@siouxcitylcic.com
SUMMARY:A "Merry TUBACHRISTMAS" Concert
DESCRIPTION:On Saturday\, December 7\, the Betty Strong Encounter Center will host “Merry TUBACHRISTMAS\,” a concert featuring Siouxland area tuba and euphonium players\, at 12:00 p.m. Admission is free. \nThe audience will hear traditional Christmas carols arranged by composer Alec Wilder who died on Christmas Eve 1980. In addition to composing music for the tuba and euphonium\, Wilder was a loyal supporter of the efforts to improve the literature and public image of these instruments. \nAt the first TubaChristmas in 1973\, around 300 musicians showed up at the ice-skating rink at Rockefeller Plaza in New York City\, bearing their giant brass instruments. A massive\, all-tuba holiday concert was the brainchild of Harvey Phillips\, a tuba player and enthusiast who would go on to teach in the music school at Indiana University and start similar tuba-centric traditions such as “Octubafest.” \nTubaChristmas concerts have since popped up in practically every state. You can now enjoy the holiday stylings of amateur tuba ensembles in 296 U.S. communities\, from Anchorage\, Alaska to Hilo\, Hawaii. In 2018\, overachievers in Kansas City set a Guinness World Record.
URL:https://siouxcitylcic.com/event/a-merry-tubachristmas-concert/
LOCATION:Lewis and Clark Interpretive Center\, 900 Larsen Park Road\, Sioux City\, IA\, 51103\, United States
CATEGORIES:Adults/Families’ Event
ATTACH;FMTTYPE=image/png:https://siouxcitylcic.com/wp-content/uploads/2024/11/TubaChristmas.png
END:VEVENT
BEGIN:VEVENT
DTSTART;TZID=America/Chicago:20241214T130000
DTEND;TZID=America/Chicago:20241214T150000
DTSTAMP:20260424T151941
CREATED:20241121T191815Z
LAST-MODIFIED:20241121T192345Z
UID:10001311-1734181200-1734188400@siouxcitylcic.com
SUMMARY:Santa at the Center
DESCRIPTION:Lewis and Clark Interpretive Center invites families to a special day of events on December 14\, 2024. \n  \nSanta at the Center will run from 1:00 pm until 3:00 pm. During this event\, the children can decorate make-and-take ornaments. Each child receives two ornaments – one to take home\, and one to hang on the tree at the Center. There will also be various “reindeer games\,” hosted by Mrs. Claus. Families can also watch Christmas Cartoons in the Keelboat Theater. All Santa at the Center events will take place in the Lewis and Clark Interpretive Center side of the building. \n  \nSanta’s visit will be held in the Kids’ Corner from 2:00-3:00 pm. \n  \nJoin your friends and invite your families to join us at the Lewis and Clark Interpretive Center on December 14th for these family-friendly festivities!
URL:https://siouxcitylcic.com/event/santa-at-the-center/
LOCATION:Lewis and Clark Interpretive Center\, 900 Larsen Park Road\, Sioux City\, IA\, 51103\, United States
ATTACH;FMTTYPE=image/png:https://siouxcitylcic.com/wp-content/uploads/2024/11/Santa-at-the-Center.png
ORGANIZER;CN="Education Coordinator":MAILTO:lcuser@siouxcitylcic.com
END:VEVENT
BEGIN:VEVENT
DTSTART;TZID=America/Chicago:20241215T140000
DTEND;TZID=America/Chicago:20241215T150000
DTSTAMP:20260424T151941
CREATED:20241026T174948Z
LAST-MODIFIED:20241203T161802Z
UID:10001309-1734271200-1734274800@siouxcitylcic.com
SUMMARY:“Classic Langley Songs and Holiday Favorites”
DESCRIPTION:One of the Center’s favorite duos\, Mike and Jack Langley will present “Classic Langley Originals and Holiday Favorites” at the Betty Strong Encounter Center on December 15 at 2:00 pm. Admission is free\, with reception to follow. \n Known for presenting a heart-warming show\, this wonderful father and son will share their musical talents with a mix of original and old favorite tunes. They have performed together for 40 years. They have performed onstage from Sioux City to Nashville\, Tennessee\, to Vienna\, Austria and back. But they always enjoy coming back to the Betty Strong Encounter Center and its great audiences. They are always a crowd favorite at the Center.
URL:https://siouxcitylcic.com/event/classic-langley-songs-and-holiday-favorites/
LOCATION:Lewis and Clark Interpretive Center\, 900 Larsen Park Road\, Sioux City\, IA\, 51103\, United States
CATEGORIES:Adults/Families’ Event
ATTACH;FMTTYPE=image/jpeg:https://siouxcitylcic.com/wp-content/uploads/2024/10/The-Langleys.jpg
END:VEVENT
END:VCALENDAR