BEGIN:VCALENDAR
VERSION:2.0
PRODID:-//Sioux City Lewis and Clark Interpretive Center - ECPv6.15.20//NONSGML v1.0//EN
CALSCALE:GREGORIAN
METHOD:PUBLISH
X-WR-CALNAME:Sioux City Lewis and Clark Interpretive Center
X-ORIGINAL-URL:https://siouxcitylcic.com
X-WR-CALDESC:Events for Sioux City Lewis and Clark Interpretive Center
REFRESH-INTERVAL;VALUE=DURATION:PT1H
X-Robots-Tag:noindex
X-PUBLISHED-TTL:PT1H
BEGIN:VTIMEZONE
TZID:America/Chicago
BEGIN:DAYLIGHT
TZOFFSETFROM:-0600
TZOFFSETTO:-0500
TZNAME:CDT
DTSTART:20240310T080000
END:DAYLIGHT
BEGIN:STANDARD
TZOFFSETFROM:-0500
TZOFFSETTO:-0600
TZNAME:CST
DTSTART:20241103T070000
END:STANDARD
BEGIN:DAYLIGHT
TZOFFSETFROM:-0600
TZOFFSETTO:-0500
TZNAME:CDT
DTSTART:20250309T080000
END:DAYLIGHT
BEGIN:STANDARD
TZOFFSETFROM:-0500
TZOFFSETTO:-0600
TZNAME:CST
DTSTART:20251102T070000
END:STANDARD
BEGIN:DAYLIGHT
TZOFFSETFROM:-0600
TZOFFSETTO:-0500
TZNAME:CDT
DTSTART:20260308T080000
END:DAYLIGHT
BEGIN:STANDARD
TZOFFSETFROM:-0500
TZOFFSETTO:-0600
TZNAME:CST
DTSTART:20261101T070000
END:STANDARD
END:VTIMEZONE
BEGIN:VEVENT
DTSTART;TZID=America/Chicago:20250706T140000
DTEND;TZID=America/Chicago:20250706T150000
DTSTAMP:20260424T021711
CREATED:20250612T193759Z
LAST-MODIFIED:20250614T190141Z
UID:10001386-1751810400-1751814000@siouxcitylcic.com
SUMMARY:Heading Out: A Walk in Poetry
DESCRIPTION:On Sunday\, July 6\, 2025\, at 2:00pm\, the Betty Strong Encounter Center welcomes Nancy Lael Braun who will share “Heading Out: A Walk in Poetry.”  No admission charge\, but freewill donations encouraged. \nBraun says that the idea of heading out can apply to a walk in the physical world or a journey of spiritual introspection and discovery or an act of uprooting one’s life to pursue a new direction. \nShe will be reading poetry from three collections: The poems of Heading Out spring from the simple activity of walking\, which the poet says\, “has saved her and formed her and given her gifts beyond measure.” The unsentimental poetry in her second collection A Puddle as Big as the Yard was inspired by watching a child grow and the experience of being a grandparent. The third poems in Fasting Slowly reflect a self-examination sparked by the spiritual practice of fasting with honesty\, questioning\, and humor. \nBraun is a life-long Midwesterner\, currently splitting her time between Lone Tree\, Iowa\, and Sioux City\, Iowa. Her poems have appeared in Aquifer: Florida Review Online\, Barbaric Yawp\, Big Muddy\, Briar Cliff Review\, Iowa City: Poetry in Public\, Passager\, Pasque Petals\, Persimmon Tree\, and TSR: The Southampton Review.
URL:https://siouxcitylcic.com/event/heading-out-a-walk-in-poetry/
LOCATION:Lewis and Clark Interpretive Center\, 900 Larsen Park Road\, Sioux City\, IA\, 51103\, United States
CATEGORIES:Adults/Families’ Event
ATTACH;FMTTYPE=image/jpeg:https://siouxcitylcic.com/wp-content/uploads/2025/06/July-6-Lael-Braun.jpg
END:VEVENT
BEGIN:VEVENT
DTSTART;TZID=America/Chicago:20250713T140000
DTEND;TZID=America/Chicago:20250713T150000
DTSTAMP:20260424T021712
CREATED:20250612T194342Z
LAST-MODIFIED:20250612T194342Z
UID:10001387-1752415200-1752418800@siouxcitylcic.com
SUMMARY:Film Premiere of Big Medicine: York Outdoors
DESCRIPTION:On Sunday\, July 13\, 2025\, at 2:00pm join us for a premiere showing of Big Medicine: York Outdoors. This 30-45 minute film is one component of the broader Big Medicine: The York Project\, a collaborative initiative to bring York’s story to the foreground.  The film was produced by Lewis and Clark National Historic Trail in partnership with NEW Multimedia. No admission charge\, but freewill donations encouraged. \n Big Medicine: York Outdoors explores the untold story of York\, the only African American member of the Lewis and Clark Expedition. Enslaved by Captain William Clark\, York did not choose to be part of this journey\, yet his significant contributions as a hunter\, guide\, caretaker\, and intermediary in interactions with Tribal Nations are chronicled in the journals of Expedition members as well as in accounts from the tribes they met along the way. The Arikara tribe referred to him as Big Medicine for his strength and the color of his skin. \nThis film follows eight educators and environmental stewards as they retrace York’s steps on a four-day river trip along the Upper Missouri River Breaks National Monument. On their journey to revive York’s story\, they explore themes of recreation access for people of color\, and the joy and healing that the outdoors can provide. \nBig Medicine: York Outdoors is an opportunity to reflect on history\, honor York’s legacy\, and recognize the connections between community\, nature\, and personal growth.
URL:https://siouxcitylcic.com/event/film-premiere-of-big-medicine-york-outdoors/
LOCATION:Lewis and Clark Interpretive Center\, 900 Larsen Park Road\, Sioux City\, IA\, 51103\, United States
CATEGORIES:Adults/Families’ Event
ATTACH;FMTTYPE=image/png:https://siouxcitylcic.com/wp-content/uploads/2025/06/York-Big-Medicine.png
END:VEVENT
BEGIN:VEVENT
DTSTART;TZID=America/Chicago:20250718T100000
DTEND;TZID=America/Chicago:20250718T110000
DTSTAMP:20260424T021712
CREATED:20250612T195541Z
LAST-MODIFIED:20250612T195541Z
UID:10001390-1752832800-1752836400@siouxcitylcic.com
SUMMARY:Outdoor Summer Series: LAMB Theatre’s “Ready\, Set\, Go”
DESCRIPTION:What would happen if the stories of the Tortoise and the Hare and Grasshopper and the Ant got really mixed up? Lamb Caravan brings an original musical for adults and children\, “Ready\, Set\, Go” to the outdoor Spirit of Discovery Stage of the Lewis and Clark Interpretive Center. The show will be held at 10:00am and at 6:00pm on Wednesday\, July 18\, 2025. \nAdmission is free but freewill donations encouraged. The audience will be positioned in a grassy area of Center’s campus\, so you are encouraged to bring lawn chairs or blankets. In case of rain\, the show will be moved inside to the auditorium. \nLAMB Regional Arts Theatre has a rich history of producing theatre in Sioux City. The creative force behind LAMB is Executive Director and Director of Education\, Diana Wooley and Russ Wooley\, Artistic/Managing Director. LAMB is committed to arts education and involvement with the Siouxland community. The LAMB school provides a wide range of classes for various age groups. They are designed to ignite imagination and foster growth in every student.
URL:https://siouxcitylcic.com/event/outdoor-summer-series-lamb-theatres-ready-set-go/
LOCATION:Lewis and Clark Interpretive Center\, 900 Larsen Park Road\, Sioux City\, IA\, 51103\, United States
CATEGORIES:Kids’ Event
ATTACH;FMTTYPE=image/png:https://siouxcitylcic.com/wp-content/uploads/2025/06/Lamb-logo.png
END:VEVENT
BEGIN:VEVENT
DTSTART;TZID=America/Chicago:20250718T180000
DTEND;TZID=America/Chicago:20250718T190000
DTSTAMP:20260424T021712
CREATED:20250612T195807Z
LAST-MODIFIED:20250612T195807Z
UID:10001391-1752861600-1752865200@siouxcitylcic.com
SUMMARY:Outdoor Summer Series: LAMB Theatre’s “Ready\, Set\, Go”
DESCRIPTION:What would happen if the stories of the Tortoise and the Hare and Grasshopper and the Ant got really mixed up? Lamb Caravan brings an original musical for adults and children\, “Ready\, Set\, Go” to the outdoor Spirit of Discovery Stage of the Lewis and Clark Interpretive Center. The show will be held at 10:00am and at 6:00pm on Wednesday\, July 18\, 2025. \nAdmission is free but freewill donations encouraged. The audience will be positioned in a grassy area of Center’s campus\, so you are encouraged to bring lawn chairs or blankets. In case of rain\, the show will be moved inside to the auditorium. \nLAMB Regional Arts Theatre has a rich history of producing theatre in Sioux City. The creative force behind LAMB is Executive Director and Director of Education\, Diana Wooley and Russ Wooley\, Artistic/Managing Director. LAMB is committed to arts education and involvement with the Siouxland community. The LAMB school provides a wide range of classes for various age groups. They are designed to ignite imagination and foster growth in every student.
URL:https://siouxcitylcic.com/event/outdoor-summer-series-lamb-theatres-ready-set-go-2/
LOCATION:Lewis and Clark Interpretive Center\, 900 Larsen Park Road\, Sioux City\, IA\, 51103\, United States
CATEGORIES:Kids’ Event
ATTACH;FMTTYPE=image/png:https://siouxcitylcic.com/wp-content/uploads/2025/06/Lamb-logo.png
END:VEVENT
BEGIN:VEVENT
DTSTART;TZID=America/Chicago:20250719T190000
DTEND;TZID=America/Chicago:20250719T200000
DTSTAMP:20260424T021712
CREATED:20250612T200053Z
LAST-MODIFIED:20250612T200053Z
UID:10001392-1752951600-1752955200@siouxcitylcic.com
SUMMARY:Outdoor Summer Series: Bill Foley Quartet
DESCRIPTION:Have you ever been listening to a song that you have not heard in a while\, and it took you back to a life experience? Maybe it was a song you mom used to sing to you in the car\, a first boyfriend or girlfriend\, your first kiss\, the first time your heart was broken\, a fun time with your friends.  Ready to hear those songs again? \nOn Saturday\, July 19\, 2025\, at the Lewis and Clark Interpretive Center’s Outdoor Spirit of Discovery stage\, Bill Foley and his band will perform the best music of the 50’s\, 60’s\, and 70’s\, including early rock and roll favorites. Admission is free but freewill donation encouraged. The audience will be positioned in a grassy area of Center’s campus\, so they are encouraged to bring lawn chairs or blankets\, as well as refreshments. In case of rain\, the show will be moved inside to the auditorium. \nPerforming since 1980\, Bill is a full-time Classic Rock/Oldies/Folk Rock Musician who tours nationally. He has served as an emcee for various events.  He performs with Gibson\, Epiphone\, and Martin Acoustic Guitars. He performs with a state-the-art Carvin sound system through the new\, stunning Fishman/Aura technology.
URL:https://siouxcitylcic.com/event/outdoor-summer-series-bill-foley-quartet/
LOCATION:Lewis and Clark Interpretive Center\, 900 Larsen Park Road\, Sioux City\, IA\, 51103\, United States
CATEGORIES:Adults/Families’ Event
ATTACH;FMTTYPE=image/jpeg:https://siouxcitylcic.com/wp-content/uploads/2025/06/Bill-Foley.jpg
END:VEVENT
BEGIN:VEVENT
DTSTART;TZID=America/Chicago:20250720T140000
DTEND;TZID=America/Chicago:20250720T150000
DTSTAMP:20260424T021712
CREATED:20250612T194636Z
LAST-MODIFIED:20250612T194636Z
UID:10001388-1753020000-1753023600@siouxcitylcic.com
SUMMARY:Crabgrass Country and Bluegrass Music
DESCRIPTION:On Sunday\, July 20\, 2025\, at 2:00 pm\, the Betty Strong Encounter Center get ready for some foot stompin’\, handclapin’ music as Crabgrass performs Traditional\, Bluegrass\, and Country Music. No admission charge but freewill donation encouraged. \nJoan Wells sings and plays rhythm and lead guitar while Kris Simon sings harmony\, plays bass\, and provides some comedy for the performance. Crabgrass takes you back in time to the songs of the Grand Old Opry as Joan and Kris perform songs of the Carter family\, Bill Monroe\, Ralph Stanley\, Flatt & Scruggs\, Johnny Cash\, Loretta Lynn\, Patsy Cline\, and various other artists. Each tune is rich in arrangement. Get ready for some fun and to hear your country and bluegrass favorites. \nCrabgrass has been performing for a number of years. This Nebraska-based group has appeared for Echoes of the Trail\, Nebraska Bluegrass Festival\, Great Platte River Road Archway Monument\, Southeast Community College\, Bellevue Berry Farm\, Riverside Fest\, Foundation Garden Concert Series\, and various stage shows\, festivals\, and celebrations.
URL:https://siouxcitylcic.com/event/crabgrass-country-and-bluegrass-music/
LOCATION:Lewis and Clark Interpretive Center\, 900 Larsen Park Road\, Sioux City\, IA\, 51103\, United States
CATEGORIES:Adults/Families’ Event
ATTACH;FMTTYPE=image/jpeg:https://siouxcitylcic.com/wp-content/uploads/2025/04/Joan-Wells-Kris-Simon.jpg
END:VEVENT
BEGIN:VEVENT
DTSTART;TZID=America/Chicago:20250726T110000
DTEND;TZID=America/Chicago:20250726T140000
DTSTAMP:20260424T021712
CREATED:20250720T191715Z
LAST-MODIFIED:20250720T191715Z
UID:10001404-1753527600-1753538400@siouxcitylcic.com
SUMMARY:Monument Tales
DESCRIPTION:On Saturday\, July 26\, 2025\, come experience “Monument Tales” at the Lewis and Clark Interpretive Center. This free class is held from 11:00am-1:00pm and is open to any age. No registration required. \nParticipants learn the story of the life of Sgt. Charles Floyd\, a member of the Lewis and Clark Expedition who was the only member to die on the expedition. Then they will learn how the Floyd Monument came to be. \nFinally\, participants will make and decorate their own mini-monument.
URL:https://siouxcitylcic.com/event/monument-tales/
LOCATION:Lewis and Clark Interpretive Center\, 900 Larsen Park Road\, Sioux City\, IA\, 51103\, United States
CATEGORIES:Kids’ Event
ATTACH;FMTTYPE=image/png:https://siouxcitylcic.com/wp-content/uploads/2025/07/July-26-Monument-Tales-sign.png
END:VEVENT
BEGIN:VEVENT
DTSTART;TZID=America/Chicago:20250726T190000
DTEND;TZID=America/Chicago:20250726T200000
DTSTAMP:20260424T021712
CREATED:20250612T200709Z
LAST-MODIFIED:20250612T200709Z
UID:10001393-1753556400-1753560000@siouxcitylcic.com
SUMMARY:Outdoor Summer Series: Starr Chief Eagle
DESCRIPTION:On Saturday July 26\, 2025\, at 7:00pm at the Lewis and Clark Interpretive Center’s outdoor Spirit of Discovery Stage\, come enjoy the amazing talents of hoop dance extraordinaire Starr Chief Eagle. She will enlighten you about the teachings and culture of the Lakota people through language\, dance\, and song for all the future generations\, all over the world. Admission is free but freewill donations encouraged. \nShe involves her audiences with interactional games that involve teaching hoop tricks\, quizzing on Lakota language\, and other educational exercises that bring fun into learning. She ends her show by sharing her 21 years of hoop dancing experience\, which involves her dancing with 21 hoops. \nThe audience will be positioned in a grassy area of Center’s campus\, so you are encouraged to bring lawn chairs or blankets\, as well as refreshments. In case of rain\, the show will be moved inside to the auditorium.
URL:https://siouxcitylcic.com/event/outdoor-summer-series-starr-chief-eagle/
LOCATION:Lewis and Clark Interpretive Center\, 900 Larsen Park Road\, Sioux City\, IA\, 51103\, United States
CATEGORIES:Adults/Families’ Event
ATTACH;FMTTYPE=image/jpeg:https://siouxcitylcic.com/wp-content/uploads/2025/06/STARRHoopDancer-scaled.jpg
END:VEVENT
BEGIN:VEVENT
DTSTART;TZID=America/Chicago:20250727T140000
DTEND;TZID=America/Chicago:20250727T150000
DTSTAMP:20260424T021712
CREATED:20250612T195216Z
LAST-MODIFIED:20250612T195216Z
UID:10001389-1753624800-1753628400@siouxcitylcic.com
SUMMARY:Highway 18 plays Old Country Favorites
DESCRIPTION:On Sunday\, July 27\, 2025\, at 2:00pm the talented musical duo Highway 18 will entertain the audience with some “Old Country Favorites.” No admission charged\, but freewill donations encouraged. \nHighway 18 is made up of Jason Blankenheim\, primarily playing the fiddle\, and Jessica Taylor\, playing guitar. They sing\, play\, and tell interesting stories about the history of many of the songs. They will be playing old country favorites by Patsy Cline\, Hank Williams and others and playing some of our favorite fiddle tunes. \nDon’t miss this wonderful program because as Jessica says\, “You’ll be sure to know a lot of the songs and will hopefully hear a couple of new favorites too!”
URL:https://siouxcitylcic.com/event/highway-18-plays-old-country-favorites/
LOCATION:Lewis and Clark Interpretive Center\, 900 Larsen Park Road\, Sioux City\, IA\, 51103\, United States
CATEGORIES:Adults/Families’ Event
ATTACH;FMTTYPE=image/jpeg:https://siouxcitylcic.com/wp-content/uploads/2025/06/Barb-Sabella-Hwy-18.jpg
END:VEVENT
END:VCALENDAR