BEGIN:VCALENDAR
VERSION:2.0
PRODID:-//Sioux City Lewis and Clark Interpretive Center - ECPv6.15.20//NONSGML v1.0//EN
CALSCALE:GREGORIAN
METHOD:PUBLISH
X-ORIGINAL-URL:https://siouxcitylcic.com
X-WR-CALDESC:Events for Sioux City Lewis and Clark Interpretive Center
REFRESH-INTERVAL;VALUE=DURATION:PT1H
X-Robots-Tag:noindex
X-PUBLISHED-TTL:PT1H
BEGIN:VTIMEZONE
TZID:America/Chicago
BEGIN:DAYLIGHT
TZOFFSETFROM:-0600
TZOFFSETTO:-0500
TZNAME:CDT
DTSTART:20240310T080000
END:DAYLIGHT
BEGIN:STANDARD
TZOFFSETFROM:-0500
TZOFFSETTO:-0600
TZNAME:CST
DTSTART:20241103T070000
END:STANDARD
BEGIN:DAYLIGHT
TZOFFSETFROM:-0600
TZOFFSETTO:-0500
TZNAME:CDT
DTSTART:20250309T080000
END:DAYLIGHT
BEGIN:STANDARD
TZOFFSETFROM:-0500
TZOFFSETTO:-0600
TZNAME:CST
DTSTART:20251102T070000
END:STANDARD
BEGIN:DAYLIGHT
TZOFFSETFROM:-0600
TZOFFSETTO:-0500
TZNAME:CDT
DTSTART:20260308T080000
END:DAYLIGHT
BEGIN:STANDARD
TZOFFSETFROM:-0500
TZOFFSETTO:-0600
TZNAME:CST
DTSTART:20261101T070000
END:STANDARD
END:VTIMEZONE
BEGIN:VEVENT
DTSTART;TZID=America/Chicago:20250907T140000
DTEND;TZID=America/Chicago:20250907T150000
DTSTAMP:20260423T224642
CREATED:20250829T171204Z
LAST-MODIFIED:20250829T171204Z
UID:10001410-1757253600-1757257200@siouxcitylcic.com
SUMMARY:"Songs for Autumn and Grandparents' Day" Langleys
DESCRIPTION:On Sunday\, September 7\, 2025\, at 2:00 PM\, Jack and Mike Langley will celebrate “Songs for Autumn and Grandparents’ Day.” Admission is free; freewill donations gladly accepted. \nKnown for presenting a heart-warming show this wonderful father and son will share their musical talents with a mix of original and old favorite tunes. \nThe Langley’s have performed together onstage for more than 40 years\, from Sioux City to Nashville\, Tennessee\, to Vienna\, Austria and back. They are always a crowd favorite at the Center.
URL:https://siouxcitylcic.com/event/songs-for-autumn-and-grandparents-day-langleys/
LOCATION:Lewis and Clark Interpretive Center\, 900 Larsen Park Road\, Sioux City\, IA\, 51103\, United States
CATEGORIES:Adults/Families’ Event
ATTACH;FMTTYPE=image/png:https://siouxcitylcic.com/wp-content/uploads/2024/03/Jack-and-Mike-Langley-May-12-2024.png
END:VEVENT
BEGIN:VEVENT
DTSTART;TZID=America/Chicago:20250914T140000
DTEND;TZID=America/Chicago:20250914T150000
DTSTAMP:20260423T224642
CREATED:20250829T171751Z
LAST-MODIFIED:20250829T171751Z
UID:10001411-1757858400-1757862000@siouxcitylcic.com
SUMMARY:Kevin and Joanne Keane
DESCRIPTION:On Sunday\, September 14\, 2025\, at 2:00pm\, Kevin and Joanne Keane perform at the Betty Strong Encounter Center. Admission is free; freewill donations are encouraged. \nKevin is a lifelong Sioux City resident and the youngest of 12 children.  He recently retired as a financial advisor and has been singing at weddings and funerals for over 40 years.  He has also been honored to sing the National Anthem for many years as Sioux City has hosted the NAIA Women’s National Championships. \nJoanne was born in Saigon\, Vietnam\, and her family moved to Sioux City in 1990.  Joanne has been singing and playing guitar since age 14.  Joanne teaches yoga\, and Kevin and Joanne both sing in the Holy Cross church choir at Blessed Sacrament as well as their smaller ensemble group at St. Michael’s Church. Together they have four children and two grandsons.
URL:https://siouxcitylcic.com/event/kevin-and-joanne-keane/
LOCATION:Lewis and Clark Interpretive Center\, 900 Larsen Park Road\, Sioux City\, IA\, 51103\, United States
CATEGORIES:Adults/Families’ Event
ATTACH;FMTTYPE=image/jpeg:https://siouxcitylcic.com/wp-content/uploads/2025/08/Kevin-Keane-scaled.jpg
END:VEVENT
BEGIN:VEVENT
DTSTART;TZID=America/Chicago:20250921T140000
DTEND;TZID=America/Chicago:20250921T150000
DTSTAMP:20260423T224642
CREATED:20250829T172122Z
LAST-MODIFIED:20250829T172122Z
UID:10001412-1758463200-1758466800@siouxcitylcic.com
SUMMARY:Guitarist Byron Kuehl
DESCRIPTION:On Sunday\, September 21\, 2025\, at 2:00pm Byron Kuehl\, one of Sioux City’s most sought after solo acoustic acts will perform at the Betty Strong Encounter Center. Admission is free\, but donations are encouraged. \nKuehl’s soulful vocals combine with driving acoustic guitar to engage listeners of all ages. Expect to hear a mix of Americana\, Blues\, and Popular music. \nKuehl is a Siouxland local who has often played at various country clubs\, restaurants\, bars\, and special events such as weddings.
URL:https://siouxcitylcic.com/event/guitarist-byron-kuehl/
LOCATION:Lewis and Clark Interpretive Center\, 900 Larsen Park Road\, Sioux City\, IA\, 51103\, United States
CATEGORIES:Adults/Families’ Event
ATTACH;FMTTYPE=image/jpeg:https://siouxcitylcic.com/wp-content/uploads/2025/08/Byron-Kuehl.jpg
END:VEVENT
BEGIN:VEVENT
DTSTART;TZID=America/Chicago:20250924T180000
DTEND;TZID=America/Chicago:20250924T193000
DTSTAMP:20260423T224642
CREATED:20250903T165951Z
LAST-MODIFIED:20250903T165951Z
UID:10001418-1758736800-1758742200@siouxcitylcic.com
SUMMARY:Poetry Reading from Dead Language by Jeanne Emmons
DESCRIPTION:On Wednesday\, September 24\, 2025 at 6:00pm at the Betty Strong Encounter Center\, listen to Jeanne Emmons read (with commentary) from her latest poetry collection\, Dead Language. \nJeanne’s poems about the loss of her mother\, a Latin teacher\, will take listeners on a descent to the underworld and back again\, a metaphor for the grief journey. A presentation of visual images will accompany the reading. \nA book signing and reception will follow with refreshments furnished by Gretchen Gondek\, Tricia Currans-Sheehan\, and the Lewis and Clark Center.
URL:https://siouxcitylcic.com/event/poetry-reading-from-dead-language-by-jeanne-emmons/
LOCATION:Lewis and Clark Interpretive Center\, 900 Larsen Park Road\, Sioux City\, IA\, 51103\, United States
CATEGORIES:Adults/Families’ Event
ATTACH;FMTTYPE=image/jpeg:https://siouxcitylcic.com/wp-content/uploads/2025/09/Jeanne-Emmons.jpeg
END:VEVENT
BEGIN:VEVENT
DTSTART;TZID=America/Chicago:20250928T140000
DTEND;TZID=America/Chicago:20250928T150000
DTSTAMP:20260423T224642
CREATED:20250829T172450Z
LAST-MODIFIED:20250829T172450Z
UID:10001413-1759068000-1759071600@siouxcitylcic.com
SUMMARY:"The Life of Great Sioux Leader Red Cloud" Dr. Don Hickey
DESCRIPTION:On Sunday\, September 28\, 2025\, at 2:00 pm at the Betty Strong Encounter Center in Sioux City\, Don Hickey\, award-winning author and historian\, will present an illustrated account of the life of the great Sioux leader Red Cloud. Admission is free\, but donations are encouraged. \nBorn in Nebraska\, Red Cloud excelled at making war and peace. In the conflict that bears his name\, Red Cloud’s War\, he is credited with the only Native American victory in any war with the United States.  He was also a good public speaker\, and as the most photographed Indian in the nineteenth century\, his face was instantly recognizable to contemporaries\, Americans\, and Native Americans alike. \nHickey holds a PhD from the University of Illinois and is a specialist in early American history and American military history. He is best known for his books\, The War of 1812: A Forgotten Conflict (University of Illinois Press) and Nebraska Moments: Glimpses of Nebraska’s Past (University of Nebraska Press). His latest book\, Tecumseh’s War: The Epic Conflict for the Heart of America\, (Westholme Publishing) was published in 2023.
URL:https://siouxcitylcic.com/event/the-life-of-great-sioux-leader-red-cloud-dr-don-hickey/
LOCATION:Lewis and Clark Interpretive Center\, 900 Larsen Park Road\, Sioux City\, IA\, 51103\, United States
CATEGORIES:Adults/Families’ Event
ATTACH;FMTTYPE=image/jpeg:https://siouxcitylcic.com/wp-content/uploads/2025/03/Don-Hickey.jpg
END:VEVENT
END:VCALENDAR