BEGIN:VCALENDAR
VERSION:2.0
PRODID:-//Sioux City Lewis and Clark Interpretive Center - ECPv6.15.20//NONSGML v1.0//EN
CALSCALE:GREGORIAN
METHOD:PUBLISH
X-WR-CALNAME:Sioux City Lewis and Clark Interpretive Center
X-ORIGINAL-URL:https://siouxcitylcic.com
X-WR-CALDESC:Events for Sioux City Lewis and Clark Interpretive Center
REFRESH-INTERVAL;VALUE=DURATION:PT1H
X-Robots-Tag:noindex
X-PUBLISHED-TTL:PT1H
BEGIN:VTIMEZONE
TZID:America/Chicago
BEGIN:DAYLIGHT
TZOFFSETFROM:-0600
TZOFFSETTO:-0500
TZNAME:CDT
DTSTART:20240310T080000
END:DAYLIGHT
BEGIN:STANDARD
TZOFFSETFROM:-0500
TZOFFSETTO:-0600
TZNAME:CST
DTSTART:20241103T070000
END:STANDARD
BEGIN:DAYLIGHT
TZOFFSETFROM:-0600
TZOFFSETTO:-0500
TZNAME:CDT
DTSTART:20250309T080000
END:DAYLIGHT
BEGIN:STANDARD
TZOFFSETFROM:-0500
TZOFFSETTO:-0600
TZNAME:CST
DTSTART:20251102T070000
END:STANDARD
BEGIN:DAYLIGHT
TZOFFSETFROM:-0600
TZOFFSETTO:-0500
TZNAME:CDT
DTSTART:20260308T080000
END:DAYLIGHT
BEGIN:STANDARD
TZOFFSETFROM:-0500
TZOFFSETTO:-0600
TZNAME:CST
DTSTART:20261101T070000
END:STANDARD
END:VTIMEZONE
BEGIN:VEVENT
DTSTART;TZID=America/Chicago:20251206T120000
DTEND;TZID=America/Chicago:20251206T130000
DTSTAMP:20260423T180119
CREATED:20251021T175846Z
LAST-MODIFIED:20251021T175846Z
UID:10001437-1765022400-1765026000@siouxcitylcic.com
SUMMARY:Merry TUBACHRISTMAS Concert
DESCRIPTION:On Saturday\, December 6\, the Betty Strong Encounter Center will host “Merry TUBACHRISTMAS\,” a concert featuring Siouxland area tuba and euphonium players\, at Noon (12:00 pm). Admission is free\, but freewill donations are encouraged. \nThe audience will hear traditional Christmas carols arranged by composer Alec Wilder who died on Christmas Eve 1980. In addition to composing music for the tuba and euphonium\, Wilder was a loyal supporter of the efforts to improve the literature and public image of these instruments. \nAt the first TubaChristmas in 1973\, around 300 musicians showed up at the ice-skating rink at Rockefeller Plaza in New York City\, bearing their giant brass instruments. A massive\, all-tuba holiday concert was the brainchild of Harvey Phillips\, a tuba player and enthusiast who would go on to teach in the music school at Indiana University and start similar tuba-centric traditions such as “Octubafest.” \nTubaChristmas concerts have since popped up in practically every state. You can now enjoy the holiday stylings of amateur tuba ensembles in 296 U.S. communities\, from Anchorage\, Alaska to Hilo\, Hawaii. In 2018\, overachievers in Kansas City set a Guinness World Record. \nFor those interested in performing visit https://sites.google.com/view/sctubachristmas for updated performances and information.
URL:https://siouxcitylcic.com/event/merry-tubachristmas-concert/
LOCATION:Lewis and Clark Interpretive Center\, 900 Larsen Park Road\, Sioux City\, IA\, 51103\, United States
CATEGORIES:Adults/Families’ Event
ATTACH;FMTTYPE=image/png:https://siouxcitylcic.com/wp-content/uploads/2025/10/Tuba-Christmas-Logo.png
END:VEVENT
BEGIN:VEVENT
DTSTART;TZID=America/Chicago:20251207T140000
DTEND;TZID=America/Chicago:20251207T150000
DTSTAMP:20260423T180119
CREATED:20251021T180146Z
LAST-MODIFIED:20251024T144618Z
UID:10001438-1765116000-1765119600@siouxcitylcic.com
SUMMARY:New Horizons Band Christmas Concert  at Lewis and Clark Interpretive Center
DESCRIPTION:On Sunday\, December 7\, 2025\, holiday music will ring out when New Horizons Band of Sioux City presents its concert under the direction of Benjamin Mauritz at 2:00 pm at the Betty Strong Encounter Center. For this concert\, the band will play a variety of music including carols\, classical\, pop\, jazz\, and novelty pieces. Admission is free\, but freewill donations are encouraged. \nThe New Horizons Band of Sioux City began more than 10 years ago with six members. The New Horizons Band currently consists of about 28 members from the Siouxland area. It is one of more than 200 U.S. programs in the New Horizons International Music Association\, which originated in 1991 at the Eastman School of Music\, Rochester\, NY. \nThe Association’s sole purpose is to provide musical opportunities for adults. New Horizon’s Band of Sioux City includes musicians with limited experience as well as those who participated in high school or college bands.
URL:https://siouxcitylcic.com/event/new-horizons-band-christmas-concert-at-lewis-and-clark-interpretive-center/
LOCATION:Lewis and Clark Interpretive Center\, 900 Larsen Park Road\, Sioux City\, IA\, 51103\, United States
CATEGORIES:Adults/Families’ Event
ATTACH;FMTTYPE=image/jpeg:https://siouxcitylcic.com/wp-content/uploads/2025/10/New-Horizon-Mauritz.jpg
END:VEVENT
BEGIN:VEVENT
DTSTART;TZID=America/Chicago:20251213T130000
DTEND;TZID=America/Chicago:20251213T150000
DTSTAMP:20260423T180119
CREATED:20251205T161744Z
LAST-MODIFIED:20251205T161744Z
UID:10001443-1765630800-1765638000@siouxcitylcic.com
SUMMARY:Santa at the Center
DESCRIPTION:Come visit Santa at the Center on Saturday\, December 13\, 2025\, with family-friendly holiday festivities! The event is free\, but freewill donations encouraged. \n“Santa at the Center” activities will start at 1:00 pm. Activities include Make-and-Take Ornament Decorating and “Reindeer Games” such as Don’t Wake the Bear\, Bowling for Penguins\, and Snowball Bucket Toss. Some short holiday videos running during this time. \nSanta and Mrs. Claus with some elves will be available to hear children’s wish lists. Also don’t be surprised if you see a magician performing some feats of magic. Treats of hot cocoa and cookies/candy canes will be served.
URL:https://siouxcitylcic.com/event/santa-at-the-center-3/
LOCATION:Lewis and Clark Interpretive Center\, 900 Larsen Park Road\, Sioux City\, IA\, 51103\, United States
CATEGORIES:Adults/Families’ Event
ATTACH;FMTTYPE=image/jpeg:https://siouxcitylcic.com/wp-content/uploads/2025/12/Santa-at-the-Center.jpg
END:VEVENT
BEGIN:VEVENT
DTSTART;TZID=America/Chicago:20251214T140000
DTEND;TZID=America/Chicago:20251214T150000
DTSTAMP:20260423T180119
CREATED:20251107T180324Z
LAST-MODIFIED:20251107T180324Z
UID:10001441-1765720800-1765724400@siouxcitylcic.com
SUMMARY:The Shamrocks
DESCRIPTION:On Sunday\, December 14\, 2025\, at 2:00pm\, The Shamrocks will be playing at the Betty Strong Encounter Center.  The Shamrocks play traditional Irish music with a drop of modern songs mixed in. They have been playing together for about four years and always welcome a return to the Betty Strong Encounter Center. Admission is free\, but freewill donations encouraged. \nMembers of the group are Ric Krommenhoek\, guitar\, vocals\, and bodhran; Father Patrick Walsh\, banjo; David Napier\, bass; Michele Grossman\, fiddle; and Sheila Graves\, fiddle.  Ric Krommenhoek began playing the guitar at age 40. A native of Sioux City\, he is also learning the concertina\, the bodhran (Irish drum) and the tin whistle. His love of all things Irish\, especially music\, was ingrained early by his mother. Leader and founding member of The Shamrocks\,  Father Pat Walsh has always been fascinated with the banjo and his Irish heritage. Father Pat is also the band’s storyteller; many of his tales flow from his seven trips to Ireland. \nDave Napier has been part of the Sioux City music scene since returning from Vietnam in 1967. He played with The VelAires from 1968-1971 and has been a member of the Dixie Daddys since 1986. Sheila Graves holds a Bachelor of Music degree from Northwestern University and has been a violin dealer and appraiser for over 30 years. She has been a member of the Sioux City Symphony\, South Dakota Symphony and the Heidelberg Chamber Orchestra (Germany). Additionally\, Sheila has participated in Fiddle Contests all over the Midwest and has published the book: “Serious Fiddling.”
URL:https://siouxcitylcic.com/event/the-shamrocks/
LOCATION:Lewis and Clark Interpretive Center\, 900 Larsen Park Road\, Sioux City\, IA\, 51103\, United States
CATEGORIES:Adults/Families’ Event
ATTACH;FMTTYPE=image/png:https://siouxcitylcic.com/wp-content/uploads/2025/11/The-Shamrocks.png
END:VEVENT
BEGIN:VEVENT
DTSTART;TZID=America/Chicago:20251220T130000
DTEND;TZID=America/Chicago:20251220T150000
DTSTAMP:20260423T180119
CREATED:20251219T151957Z
LAST-MODIFIED:20251219T151957Z
UID:10001450-1766235600-1766242800@siouxcitylcic.com
SUMMARY:Holiday Cookie Decorating
DESCRIPTION:Come have some creative fun decorating a holiday cookie to enjoy.  The event goes while supplies last from 1:00pm-3:00pm. A fun family Saturday outing!!
URL:https://siouxcitylcic.com/event/holiday-cookie-decorating/
LOCATION:Lewis and Clark Interpretive Center\, 900 Larsen Park Road\, Sioux City\, IA\, 51103\, United States
CATEGORIES:Kids’ Event
ATTACH;FMTTYPE=image/png:https://siouxcitylcic.com/wp-content/uploads/2025/12/Cookie-Decorating.png
END:VEVENT
BEGIN:VEVENT
DTSTART;TZID=America/Chicago:20251221T140000
DTEND;TZID=America/Chicago:20251221T150000
DTSTAMP:20260423T180119
CREATED:20251021T180332Z
LAST-MODIFIED:20251021T182019Z
UID:10001439-1766325600-1766329200@siouxcitylcic.com
SUMMARY:Langleys’ Holiday Show: Classic Langley Originals and Holiday Favorites
DESCRIPTION:One of the Center’s favorite duos\, Mike and Jack Langley will present “Classic Langley Originals and Holiday Favorites” at the Betty Strong Encounter Center on December 21\, 2025 at 2:00 pm. Admission is free\, but freewill donations encouraged. \n Known for presenting a heart-warming show\, this wonderful father and son will share their musical talents with a mix of original and old favorite tunes. They have performed together for 50 years. They have performed onstage from Sioux City to Nashville\, Tennessee\, to Vienna\, Austria and back. \nNevertheless\, they always enjoy coming back to the Betty Strong Encounter Center and its great audiences. They are always a crowd favorite at the Center.
URL:https://siouxcitylcic.com/event/langleys-holiday-show-classic-langley-originals-and-holiday-favorites/
LOCATION:Lewis and Clark Interpretive Center\, 900 Larsen Park Road\, Sioux City\, IA\, 51103\, United States
CATEGORIES:Adults/Families’ Event
ATTACH;FMTTYPE=image/png:https://siouxcitylcic.com/wp-content/uploads/2024/03/Jack-and-Mike-Langley-May-12-2024.png
END:VEVENT
END:VCALENDAR