BEGIN:VCALENDAR
VERSION:2.0
PRODID:-//Sioux City Lewis and Clark Interpretive Center - ECPv6.15.20//NONSGML v1.0//EN
CALSCALE:GREGORIAN
METHOD:PUBLISH
X-ORIGINAL-URL:https://siouxcitylcic.com
X-WR-CALDESC:Events for Sioux City Lewis and Clark Interpretive Center
REFRESH-INTERVAL;VALUE=DURATION:PT1H
X-Robots-Tag:noindex
X-PUBLISHED-TTL:PT1H
BEGIN:VTIMEZONE
TZID:America/Chicago
BEGIN:DAYLIGHT
TZOFFSETFROM:-0600
TZOFFSETTO:-0500
TZNAME:CDT
DTSTART:20250309T080000
END:DAYLIGHT
BEGIN:STANDARD
TZOFFSETFROM:-0500
TZOFFSETTO:-0600
TZNAME:CST
DTSTART:20251102T070000
END:STANDARD
BEGIN:DAYLIGHT
TZOFFSETFROM:-0600
TZOFFSETTO:-0500
TZNAME:CDT
DTSTART:20260308T080000
END:DAYLIGHT
BEGIN:STANDARD
TZOFFSETFROM:-0500
TZOFFSETTO:-0600
TZNAME:CST
DTSTART:20261101T070000
END:STANDARD
BEGIN:DAYLIGHT
TZOFFSETFROM:-0600
TZOFFSETTO:-0500
TZNAME:CDT
DTSTART:20270314T080000
END:DAYLIGHT
BEGIN:STANDARD
TZOFFSETFROM:-0500
TZOFFSETTO:-0600
TZNAME:CST
DTSTART:20271107T070000
END:STANDARD
END:VTIMEZONE
BEGIN:VEVENT
DTSTART;TZID=America/Chicago:20260301T140000
DTEND;TZID=America/Chicago:20260301T150000
DTSTAMP:20260423T130432
CREATED:20260205T163033Z
LAST-MODIFIED:20260205T163556Z
UID:10001453-1772373600-1772377200@siouxcitylcic.com
SUMMARY:Legacies of Resistance and Resilience in Occupied France
DESCRIPTION:On Sunday\, March 1\, 2026\, at 2:00pm in the Betty Strong Encounter Center auditorium\, Dr. Scott Culpepper will present a fascinating look at Legacies of Resistance and Resilience in Occupied France. Admission is free\, but freewill donations encouraged. \nThe fall of France in 1940 created a challenging situation for citizens now living under a collaborationist government and\, in some places\, direct Nazi control. Many French citizens risked their lives to challenge Nazi control of France in large and small ways\, contributing to the overall allied effort to liberate Western Europe. Dr. Scott Culpepper will delve into this history that inspired his novel The Demonologists’ Legacy by illustrating life under the Vichy regime and featuring selected stories of people who joined the resistance against it. He will be signing copies of his novels on Saturday\, February 28 at Barnes & Noble from 1-4\, and audience members can also bring their copies to be signed at the Encounter Center after the presentation. \nK. Scott Culpepper is an author\, historian\, and speaker creatively exploring the history and mystery of human experiences. He holds a Ph.D. from Baylor University and specializes in the history of the early modern Atlantic world\, focusing on how fear and faith have shaped and been shaped by history from early modern Britain to modern America. The Demonologists’ Daughters\, his debut novel\, was published by Scotland Publications in 2024 and the sequel\, The Demonologists’ Legacy\, was released in 2025. His nonfiction book Francis Johnson and the English Separatist Influencewas published by Mercer University Press in 2011. He teaches courses in history and religious studies at Dordt University in Iowa where he lives with his wife\, Ginger. He loves history\, spooky tales\, reading\, writing\, swimming\, and spending time with his amazing family.
URL:https://siouxcitylcic.com/event/legacies-of-resistance-and-resilience-in-occupied-france/
LOCATION:Lewis and Clark Interpretive Center\, 900 Larsen Park Road\, Sioux City\, IA\, 51103\, United States
CATEGORIES:Adults/Families’ Event
ATTACH;FMTTYPE=image/jpeg:https://siouxcitylcic.com/wp-content/uploads/2026/02/Culpepper-new.jpg
END:VEVENT
BEGIN:VEVENT
DTSTART;TZID=America/Chicago:20260303T090000
DTEND;TZID=America/Chicago:20260405T170000
DTSTAMP:20260423T130432
CREATED:20260226T182258Z
LAST-MODIFIED:20260226T182258Z
UID:10001469-1772528400-1775408400@siouxcitylcic.com
SUMMARY:Sioux City Macro Photographer Gallery Exhibit
DESCRIPTION:The Betty Strong Encounter Center is excited to present in its gallery a display of works by Sioux City Macro Photographer. The exhibit opens Tuesday\, March 3\, 2026\, and runs through April 5\, 2026. Admission is free\, but free will donations are encouraged. \nBased in Iowa\, this artist is a macro and micro photographer who has spent the last decade exploring the soil in the Loess Hills.  Specializing in slime molds\, fungi\, and insects\, she seeks the intricate details that evade the naked eye. Her work blends scientific curiosity with artistic composition. Through focus stacking\, precision lighting\, and meticulous editing\, she invites viewers to slow down and rediscover the wonder in small-scale life. \nWith a body of work rooted in field experience and a dedication to refining her craft\, she continues to document the extraordinary biodiversity of the Midwest\, sharing a perspective that bridges art\, ecology\, and storytelling. \nThe Lewis and Clark Interpretive Center/Betty Strong Encounter Center was built and is sustained by the Missouri River Historic Development Organization as a gift of history to the community. For more information call 712-224-5242. Find the Center at www.siouxcitylcic.com or www.facebook.com/sclandc
URL:https://siouxcitylcic.com/event/sioux-city-macro-photographer-gallery-exhibit/
LOCATION:Lewis and Clark Interpretive Center\, 900 Larsen Park Road\, Sioux City\, IA\, 51103\, United States
CATEGORIES:Adults/Families’ Event
ATTACH;FMTTYPE=image/jpeg:https://siouxcitylcic.com/wp-content/uploads/2026/02/Macro-Photographer.jpg
END:VEVENT
BEGIN:VEVENT
DTSTART;TZID=America/Chicago:20260307T110000
DTEND;TZID=America/Chicago:20260307T114500
DTSTAMP:20260423T130432
CREATED:20260220T170958Z
LAST-MODIFIED:20260220T171425Z
UID:10001464-1772881200-1772883900@siouxcitylcic.com
SUMMARY:Saturday Class: Time to Dance grades K-4
DESCRIPTION:On Saturday\, March 7\, 2026\, join Ms. Amy at the Lewis and Clark Interpretive Center and take Time to Dance. No registration is required for this free class. The class is held from 11:00am for grades K-4. \nThe explorers worked hard\, but when it was time to relax\, they often danced the jig around the campfire. Maybe you can try to dance the jig!
URL:https://siouxcitylcic.com/event/saturday-class-time-to-dance-grades-k-4/
LOCATION:Lewis and Clark Interpretive Center\, 900 Larsen Park Road\, Sioux City\, IA\, 51103\, United States
CATEGORIES:Kids’ Event
ATTACH;FMTTYPE=image/png:https://siouxcitylcic.com/wp-content/uploads/2026/02/PP-March-7.png
END:VEVENT
BEGIN:VEVENT
DTSTART;TZID=America/Chicago:20260307T123000
DTEND;TZID=America/Chicago:20260307T133000
DTSTAMP:20260423T130432
CREATED:20260225T170731Z
LAST-MODIFIED:20260225T170731Z
UID:10001466-1772886600-1772890200@siouxcitylcic.com
SUMMARY:Saturday Class: The Arrow Points the Way! (grades 5-8)
DESCRIPTION:On Saturday\, March 7\, 2026\, come learn how Lewis and Clark found their way across the country without the aid of road signs or navigation apps. The class is held at 12:30pm for grades 5-8. Admission is free\, but freewill donations encouraged. \nParticipants will learn some basics of compass usage\, map reading\, and about “dead reckoning\,” a method of navigation relying on estimating one’s current track\, groundspeed and position based on earlier known positions. \nThe Lewis and Clark Interpretive Center/Betty Strong Encounter Center was built and is sustained by the Missouri River Historic Development Organization as a gift of history to the community. For more information call 712-224-5242. Find the Center at www.siouxcitylcic.com or www.facebook.com/sclandc
URL:https://siouxcitylcic.com/event/saturday-class-the-arrow-points-the-way-grades-5-8/
LOCATION:Lewis and Clark Interpretive Center\, 900 Larsen Park Road\, Sioux City\, IA\, 51103\, United States
CATEGORIES:Kids’ Event
ATTACH;FMTTYPE=image/png:https://siouxcitylcic.com/wp-content/uploads/2026/02/AK-March-7-Compass.png
END:VEVENT
BEGIN:VEVENT
DTSTART;TZID=America/Chicago:20260308T140000
DTEND;TZID=America/Chicago:20260308T150000
DTSTAMP:20260423T130432
CREATED:20260205T163524Z
LAST-MODIFIED:20260205T163524Z
UID:10001454-1772978400-1772982000@siouxcitylcic.com
SUMMARY:"Plow in the Oak" song cycle Radio Rangers
DESCRIPTION:On Sunday\, March 8\, 2026\, at 2:00pm\, the talented music duo Radio Rangers aside from playing favorites will debut their original song cycle about an Iowa legend\, “Plow in the Oak.”  Admission is free\, but freewill donations encouraged. \nJust outside of the Iowa town of Exira there is a horse drawn plow which an oak tree has grown around. The legend is that a young farmer was plowing in his field as the Iowa regulars (Union Soldiers) marched by. He leaned his plow against a sapling oak tree and joined them as they marched off to the Civil War; however\, he never returned. \nRadio Rangers are a two-piece band playing live music that includes Americana original songs\, and classic covers. Randy sings\, plays drums and keyboard lead and Donna sings and plays guitar and bass. They have released three albums of original songs and have recently completed “The Plow in the Oak” Song Cycle. \nRandy and Donna have been playing together in bands since 1979. They were the founding members of the country/pop band “Prairie Fire” that played parties and nightclubs in Iowa\, Nebraska\, Missouri\, and Minnesota.  They did a Midwest tour in 1988 with a group called “Radio Flyers” and later became members of the party band “Time Bandits.” As their children became teenagers\, they worked with them in a horn band called “Nightwatch” playing town celebrations\, county fairs and private parties. \nRandy and Donna are retired music teachers who formed the current duo after retirement.  Radio Rangers has played wineries\, clubs\, parties and celebrations in Iowa\, Nebraska\, South Dakota\, Minnesota\, Arizona and Florida
URL:https://siouxcitylcic.com/event/plow-in-the-oak-song-cycle-radio-rangers/
LOCATION:Lewis and Clark Interpretive Center\, 900 Larsen Park Road\, Sioux City\, IA\, 51103\, United States
CATEGORIES:Adults/Families’ Event
ATTACH;FMTTYPE=image/png:https://siouxcitylcic.com/wp-content/uploads/2023/12/Radio-Rangers.png
END:VEVENT
BEGIN:VEVENT
DTSTART;TZID=America/Chicago:20260314T110000
DTEND;TZID=America/Chicago:20260314T114500
DTSTAMP:20260423T130432
CREATED:20260225T174827Z
LAST-MODIFIED:20260225T174827Z
UID:10001467-1773486000-1773488700@siouxcitylcic.com
SUMMARY:Saturday Class: Make a Seed Starter Kit (grades K-4)
DESCRIPTION:Spring is on its way!  On Saturday\, March 14\, 2026\, join Ms. Amy at the Lewis and Clark Interpretive Center to Make a Seed Starter Kit. No registration is required for this free class. The class is held at 11:00am for grades K-4th. Admission is free\, but freewill donations encouraged. \nWith the seasons changing\, it is time to think about getting some seedlings growing. While Captain Lewis had sent to President Jefferson plant cuttings of the newly discovered plants\, we have to rely on using seeds to get our plants started. \nThe Lewis and Clark Interpretive Center/Betty Strong Encounter Center was built and is sustained by the Missouri River Historic Development Organization as a gift of history to the community. For more information call 712-224-5242. Find the Center at www.siouxcitylcic.com or www.facebook.com/sclandc
URL:https://siouxcitylcic.com/event/saturday-class-make-a-seed-starter-kit-grades-k-4/
LOCATION:Lewis and Clark Interpretive Center\, 900 Larsen Park Road\, Sioux City\, IA\, 51103\, United States
CATEGORIES:Kids’ Event
ATTACH;FMTTYPE=image/png:https://siouxcitylcic.com/wp-content/uploads/2026/02/PP-March-14-Seed-Starter.png
END:VEVENT
BEGIN:VEVENT
DTSTART;TZID=America/Chicago:20260314T123000
DTEND;TZID=America/Chicago:20260314T133000
DTSTAMP:20260423T130432
CREATED:20260225T175043Z
LAST-MODIFIED:20260225T175043Z
UID:10001468-1773491400-1773495000@siouxcitylcic.com
SUMMARY:Saturday Class: Make a Seed Starter Kit (grades 5th-8th)
DESCRIPTION:Spring is on its way!  On Saturday\, March 14\, 2026\, join Ms. Amy at the Lewis and Clark Interpretive Center to Make a Seed Starter Kit. No registration is required for this free class. The class is held at 12:30pm for grades 5-8. Admission is free\, but freewill donations encouraged. \nWith the seasons changing\, it is time to think about getting some seedlings growing. While Captain Lewis had sent to President Jefferson plant cuttings of the newly discovered plants\, we have to rely on using seeds to get our plants started. \nThe Lewis and Clark Interpretive Center/Betty Strong Encounter Center was built and is sustained by the Missouri River Historic Development Organization as a gift of history to the community. For more information call 712-224-5242. Find the Center at www.siouxcitylcic.com or www.facebook.com/sclandc
URL:https://siouxcitylcic.com/event/saturday-class-make-a-seed-starter-kit-grades-5th-8th/
LOCATION:Lewis and Clark Interpretive Center\, 900 Larsen Park Road\, Sioux City\, IA\, 51103\, United States
CATEGORIES:Kids’ Event
ATTACH;FMTTYPE=image/png:https://siouxcitylcic.com/wp-content/uploads/2026/02/AK-March-14-Seed-Starter.png
END:VEVENT
BEGIN:VEVENT
DTSTART;TZID=America/Chicago:20260315T140000
DTEND;TZID=America/Chicago:20260315T150000
DTSTAMP:20260423T130432
CREATED:20260205T163926Z
LAST-MODIFIED:20260205T163926Z
UID:10001455-1773583200-1773586800@siouxcitylcic.com
SUMMARY:Bill Peterson and Friends
DESCRIPTION:On Sunday\, March 15\, 2026\, at 2:00pm in the Betty Strong Encounter Center\, Bill Peterson and Friends will bring some Irish music for all to enjoy. Admission is free\, but freewill donations encouraged. \nFiddler Bill Peterson and his friends John Everist\, Josh Scott and Mike Pettman will present a concert of Irish traditional music. John is the guitarist in the band\, Josh is a fiddler\, and Mike plays accordion and concertina. \nJohn and Bill played for several years in the Sioux Falls Ceili Band\, the band played at McNally’s Irish Pub for 14 years and for many more years for Irish dancing at the Old Courthouse Museum in Sioux Falls. Josh and Mike currently play with the Rowena Ceil Band and have recently joined forces with Bill and John. John’s family is of Irish descent and were early arrivals in Sioux City and Jackson\, Nebraska.
URL:https://siouxcitylcic.com/event/bill-peterson-and-friends-3/
LOCATION:Lewis and Clark Interpretive Center\, 900 Larsen Park Road\, Sioux City\, IA\, 51103\, United States
CATEGORIES:Adults/Families’ Event
ATTACH;FMTTYPE=image/jpeg:https://siouxcitylcic.com/wp-content/uploads/2026/02/Peterson-and-Friends.jpg
END:VEVENT
BEGIN:VEVENT
DTSTART;TZID=America/Chicago:20260321T110000
DTEND;TZID=America/Chicago:20260321T114500
DTSTAMP:20260423T130432
CREATED:20260313T162616Z
LAST-MODIFIED:20260318T145631Z
UID:10001470-1774090800-1774093500@siouxcitylcic.com
SUMMARY:Saturday Class: Native Survival Games
DESCRIPTION:On Saturday\, March 21\, 2026\, join Ms. Amy at the Lewis and Clark Interpretive Center to learn some Native Survival Games. No registration is required for this free class. The class is held at 11:00am. Admission is free\, but free will donations encouraged. \nCould you have survived in the 1800s? Learn some games Native children played not knowing that they were developing valuable hunting and survival skills. \nThe Lewis and Clark Interpretive Center/Betty Strong Encounter Center was built and is sustained by the Missouri River Historic Development Organization as a gift of history to the community. For more information call 712-224-5242. Find the Center at www.siouxcitylcic.com or www.facebook.com/sclandc
URL:https://siouxcitylcic.com/event/saturday-class-native-survival-games/
LOCATION:Lewis and Clark Interpretive Center\, 900 Larsen Park Road\, Sioux City\, IA\, 51103\, United States
CATEGORIES:Kids’ Event
ATTACH;FMTTYPE=image/png:https://siouxcitylcic.com/wp-content/uploads/2026/03/March-21-Survival-Games-1.png
END:VEVENT
BEGIN:VEVENT
DTSTART;TZID=America/Chicago:20260322T140000
DTEND;TZID=America/Chicago:20260322T150000
DTSTAMP:20260423T130432
CREATED:20260205T164202Z
LAST-MODIFIED:20260205T164202Z
UID:10001456-1774188000-1774191600@siouxcitylcic.com
SUMMARY:"Is This Your Card?"
DESCRIPTION:On Sunday\, March 22\, 2026\, at 2:00pm in the Betty Strong Encounter Center auditorium\, Corey “Magic Man” Fravel will astound our audience with his amazing feats. Admission is free\, but freewill donations encouraged. \nFravel’s shows are for all ages. Volunteers are encouraged and welcomed at the show! You can be a part of the performance by raising your hand to come up on stage. His show creates a feeling of awe that only magic brings out. His sleight of hand and cunning skills will leave you wondering “how did he do that!?” \nFravel has been doing magic for over twenty years and has become a staple for local entertainment in the Sioux City area.
URL:https://siouxcitylcic.com/event/is-this-your-card/
LOCATION:Lewis and Clark Interpretive Center\, 900 Larsen Park Road\, Sioux City\, IA\, 51103\, United States
CATEGORIES:Adults/Families’ Event
ATTACH;FMTTYPE=image/png:https://siouxcitylcic.com/wp-content/uploads/2025/03/Corey-Fravel.png
END:VEVENT
BEGIN:VEVENT
DTSTART;TZID=America/Chicago:20260328T110000
DTEND;TZID=America/Chicago:20260328T110000
DTSTAMP:20260423T130432
CREATED:20260313T164351Z
LAST-MODIFIED:20260325T161458Z
UID:10001471-1774695600-1774695600@siouxcitylcic.com
SUMMARY:Saturday Class: Growing Food Flowers from Seeds
DESCRIPTION:On Saturday\, March 28\, 2026\, join Ms. Amy at the Lewis and Clark Interpretive Center to learn about Growing Food/Flowers from Seeds. No registration is required for this class. The class is held at 11:00am. Admission is free\, but free will donations encouraged. \nHave you ever started growing a plant from a seed? You can learn the best way to plant seeds in containers for the upcoming growing season. And how to keep them growing at home. \nThe Lewis and Clark Interpretive Center/Betty Strong Encounter Center was built and is sustained by the Missouri River Historic Development Organization as a gift of history to the community. For more information call 712-224-5242. Find the Center at www.siouxcitylcic.com or www.facebook.com/sclandc
URL:https://siouxcitylcic.com/event/saturday-class-growing-food-flowers-from-seeds/
LOCATION:Lewis and Clark Interpretive Center\, 900 Larsen Park Road\, Sioux City\, IA\, 51103\, United States
CATEGORIES:Kids’ Event
ATTACH;FMTTYPE=image/png:https://siouxcitylcic.com/wp-content/uploads/2026/03/March-28-Growing-FoodFlowers-3.png
END:VEVENT
BEGIN:VEVENT
DTSTART;TZID=America/Chicago:20260329T140000
DTEND;TZID=America/Chicago:20260329T150000
DTSTAMP:20260423T130432
CREATED:20260205T164815Z
LAST-MODIFIED:20260205T164815Z
UID:10001457-1774792800-1774796400@siouxcitylcic.com
SUMMARY:Splendor in the Brass
DESCRIPTION:On Sunday\, March 29\, 2026\, at 2:00pm the Betty Strong Encounter Center welcomes back the Floyd Valley Brass Quintet who will present “Splendor in the Brass.” The group is excited to play here again and their show will include a variety of entertaining music. Admission is free\, but freewill donations encouraged. \nThe members of the quintet are the following:  Kevin Linder~trumpet: Kevin is an accomplished trumpet player performing and teaching students from high school through university level throughout N.W. Iowa. In addition\, Kevin is the director of the Prairie Winds Jazz Band. \nMichael Prichard~trumpet: Michael is the band director at the Le Mars Community High School and is the conductor of the Sioux City Municipal Band in the summer. He is active in many professional music organizations in Iowa. \nRichard Ziettlow~ French Horn: Richard was a student of Mr. Brice in Le Mars and was a member of the Iowa All-State Band.  He is also a Le Mars Chamber of Commerce board member and President of the Le Mars Community Daycare Center Board of Directors. Currently\, he serves as Chairman of the Historic Preservation Committee of the City of Le Mars. \nBrad Pick~ trombone: Brad is an officer at Prime Bank in Le Mars.  He was also a graduate of Le Mars high school and was selected for the Iowa All-State Band. He also serves on the Le Mars City Council. \nRolyn Beaird~ tuba: Rolyn is a highly sought-after tuba player throughout the area and travels as a representative for Popplers Music in Sioux Falls\, SD. \nThe Floyd Valley Brass quintet was formed early in 2025 under the direction of Joe Brice.  Mr. Brice was director of bands at Le Mars Community Schools high school from 1959-1974.  He then was band director at Cherry Creek School District in S.E. suburban Denver before returning to Le Mars in 2024.
URL:https://siouxcitylcic.com/event/splendor-in-the-brass/
LOCATION:Lewis and Clark Interpretive Center\, 900 Larsen Park Road\, Sioux City\, IA\, 51103\, United States
CATEGORIES:Adults/Families’ Event
ATTACH;FMTTYPE=image/png:https://siouxcitylcic.com/wp-content/uploads/2025/11/Floyd-Valley-Brass.png
END:VEVENT
BEGIN:VEVENT
DTSTART;TZID=America/Chicago:20260331T080000
DTEND;TZID=America/Chicago:20260331T170000
DTSTAMP:20260423T130432
CREATED:20260331T181455Z
LAST-MODIFIED:20260331T181455Z
UID:10001478-1774944000-1774976400@siouxcitylcic.com
SUMMARY:Saturday Class: A Time for Celebration!
DESCRIPTION:On Saturday\, May 16\, 2026\, at 11:00am\, join Ms. Amy at the Lewis and Clark Interpretive Center for an end of our semester game day/party. No registration is required for this free class. Admission is free\, but free will donations encouraged. \nWe will celebrate the things we have learned this spring with some games and treats.  We will look forward to continuing the fun with our summer series of classes on Wednesdays and Saturdays. We will also talk about the extremely special kids’ events planned for the summer! Be sure to check all this out! \nThe Lewis and Clark Interpretive Center/Betty Strong Encounter Center was built and is sustained by the Missouri River Historic Development Organization as a gift of history to the community. For more information call 712-224-5242. Find the Center at www.siouxcitylcic.com or www.facebook.com/sclandc
URL:https://siouxcitylcic.com/event/saturday-class-a-time-for-celebration/
LOCATION:Lewis and Clark Interpretive Center\, 900 Larsen Park Road\, Sioux City\, IA\, 51103\, United States
CATEGORIES:Kids’ Event
ATTACH;FMTTYPE=image/png:https://siouxcitylcic.com/wp-content/uploads/2026/03/May-16-Celebration.png
END:VEVENT
END:VCALENDAR