BEGIN:VCALENDAR
VERSION:2.0
PRODID:-//Sioux City Lewis and Clark Interpretive Center - ECPv6.15.20//NONSGML v1.0//EN
CALSCALE:GREGORIAN
METHOD:PUBLISH
X-ORIGINAL-URL:https://siouxcitylcic.com
X-WR-CALDESC:Events for Sioux City Lewis and Clark Interpretive Center
REFRESH-INTERVAL;VALUE=DURATION:PT1H
X-Robots-Tag:noindex
X-PUBLISHED-TTL:PT1H
BEGIN:VTIMEZONE
TZID:America/Chicago
BEGIN:DAYLIGHT
TZOFFSETFROM:-0600
TZOFFSETTO:-0500
TZNAME:CDT
DTSTART:20230312T080000
END:DAYLIGHT
BEGIN:STANDARD
TZOFFSETFROM:-0500
TZOFFSETTO:-0600
TZNAME:CST
DTSTART:20231105T070000
END:STANDARD
BEGIN:DAYLIGHT
TZOFFSETFROM:-0600
TZOFFSETTO:-0500
TZNAME:CDT
DTSTART:20240310T080000
END:DAYLIGHT
BEGIN:STANDARD
TZOFFSETFROM:-0500
TZOFFSETTO:-0600
TZNAME:CST
DTSTART:20241103T070000
END:STANDARD
BEGIN:DAYLIGHT
TZOFFSETFROM:-0600
TZOFFSETTO:-0500
TZNAME:CDT
DTSTART:20250309T080000
END:DAYLIGHT
BEGIN:STANDARD
TZOFFSETFROM:-0500
TZOFFSETTO:-0600
TZNAME:CST
DTSTART:20251102T070000
END:STANDARD
END:VTIMEZONE
BEGIN:VEVENT
DTSTART;TZID=America/Chicago:20240627T180000
DTEND;TZID=America/Chicago:20240627T193000
DTSTAMP:20260424T083220
CREATED:20240214T220140Z
LAST-MODIFIED:20240406T205535Z
UID:10000876-1719511200-1719516600@siouxcitylcic.com
SUMMARY:Nutrition: Taking Charge of Your Choices
DESCRIPTION:In this lesson\, students will discover the importance of shared and family meals\, meal and snack planning and making good choices when dining in restaurants. They will engage in practice-based activities where they use photo cards and mock menus to make realistic and healthful choices. To extend the lesson and involve their families\, students will also receive “Not so Fast … Make a Game Plan for Eating Out” activity sheet and a “Stock Your Kitchen for Healthy Snacking” information sheet to share with their family. \nThe Growers’ Academy is a sixteen-week course which includes classes on topics such as soil preparation\, nutrition\, and community responsibility. Each class includes a 45-minute classroom lesson and 45 minutes working in the Center’s new Community Garden. The Growers’ Academy and Community Garden are sponsored and fully funded by our partners\, CF Industries. \n[ninja_form id=’41’]
URL:https://siouxcitylcic.com/event/choices/
LOCATION:Lewis and Clark Interpretive Center\, 900 Larsen Park Road\, Sioux City\, IA\, 51103\, United States
CATEGORIES:Kids’ Event
ATTACH;FMTTYPE=image/png:https://siouxcitylcic.com/wp-content/uploads/2024/04/Growers-Academy-billboard-1920-x-1080-px-10.png
END:VEVENT
END:VCALENDAR