BEGIN:VCALENDAR
VERSION:2.0
PRODID:-//Sioux City Lewis and Clark Interpretive Center - ECPv6.15.20//NONSGML v1.0//EN
CALSCALE:GREGORIAN
METHOD:PUBLISH
X-WR-CALNAME:Sioux City Lewis and Clark Interpretive Center
X-ORIGINAL-URL:https://siouxcitylcic.com
X-WR-CALDESC:Events for Sioux City Lewis and Clark Interpretive Center
REFRESH-INTERVAL;VALUE=DURATION:PT1H
X-Robots-Tag:noindex
X-PUBLISHED-TTL:PT1H
BEGIN:VTIMEZONE
TZID:America/Chicago
BEGIN:DAYLIGHT
TZOFFSETFROM:-0600
TZOFFSETTO:-0500
TZNAME:CDT
DTSTART:20240310T080000
END:DAYLIGHT
BEGIN:STANDARD
TZOFFSETFROM:-0500
TZOFFSETTO:-0600
TZNAME:CST
DTSTART:20241103T070000
END:STANDARD
BEGIN:DAYLIGHT
TZOFFSETFROM:-0600
TZOFFSETTO:-0500
TZNAME:CDT
DTSTART:20250309T080000
END:DAYLIGHT
BEGIN:STANDARD
TZOFFSETFROM:-0500
TZOFFSETTO:-0600
TZNAME:CST
DTSTART:20251102T070000
END:STANDARD
BEGIN:DAYLIGHT
TZOFFSETFROM:-0600
TZOFFSETTO:-0500
TZNAME:CDT
DTSTART:20260308T080000
END:DAYLIGHT
BEGIN:STANDARD
TZOFFSETFROM:-0500
TZOFFSETTO:-0600
TZNAME:CST
DTSTART:20261101T070000
END:STANDARD
END:VTIMEZONE
BEGIN:VEVENT
DTSTART;TZID=America/Chicago:20250326T173000
DTEND;TZID=America/Chicago:20250326T183000
DTSTAMP:20260424T045110
CREATED:20250201T191929Z
LAST-MODIFIED:20250201T191929Z
UID:10001351-1743010200-1743013800@siouxcitylcic.com
SUMMARY:What's on Wednesday: Beaded Indian Corn Craft
DESCRIPTION:Participants will bead their own ear of Indian Corn to take home. Each will have their own personalized bushel. \nAlong with the craft activity\, class members will gain knowledge on a plant native to Siouxland\, Native Corn. The class will learn how it was harvested and gathered by the Native Americans.  They will also learn how some of the corn is considered to have good luck. \nThis program is part of Lewis and Clark Interpretive Center’s “What’s on Wednesday” free programs\, which are offered from 5:30pm-6:30pm.  Each week we offer a program alternating between programs for adults and programs for kids and families. See events listings for details or contact Kristine Bornholtz (kbornholtz@siouxcitylcic.com) with questions.
URL:https://siouxcitylcic.com/event/whats-on-wednesday-beaded-indian-corn-craft/
LOCATION:Lewis and Clark Interpretive Center\, 900 Larsen Park Road\, Sioux City\, IA\, 51103\, United States
CATEGORIES:Kids’ Event
END:VEVENT
BEGIN:VEVENT
DTSTART;TZID=America/Chicago:20250226T173000
DTEND;TZID=America/Chicago:20250226T183000
DTSTAMP:20260424T045110
CREATED:20250201T180826Z
LAST-MODIFIED:20250207T150834Z
UID:10001349-1740591000-1740594600@siouxcitylcic.com
SUMMARY:What's on Wednesday: Fairies in a Jar
DESCRIPTION:Come join Ms. Elizabeth to observe a magical science experiment “Fairies in a Jar.” This free event is open to all children and families. \n\n\nThen you will get to create your own unique enchanted jar. \n  \n\n\nThis program is part of Lewis and Clark Interpretive Center’s “What’s on Wednesday” free programs\, which are offered from 5:30pm-6:30pm.  Each week we offer a program alternating between programs for adults and programs for kids and families. See events listings for details or contact Kristine Bornholtz (kbornholtz@siouxcitylcic.com) with questions.
URL:https://siouxcitylcic.com/event/whats-on-wednesday-thank-you-to-veterans/
LOCATION:Lewis and Clark Interpretive Center\, 900 Larsen Park Road\, Sioux City\, IA\, 51103\, United States
CATEGORIES:Kids’ Event
END:VEVENT
END:VCALENDAR