BEGIN:VCALENDAR
VERSION:2.0
PRODID:-//Sioux City Lewis and Clark Interpretive Center - ECPv6.15.20//NONSGML v1.0//EN
CALSCALE:GREGORIAN
METHOD:PUBLISH
X-ORIGINAL-URL:https://siouxcitylcic.com
X-WR-CALDESC:Events for Sioux City Lewis and Clark Interpretive Center
REFRESH-INTERVAL;VALUE=DURATION:PT1H
X-Robots-Tag:noindex
X-PUBLISHED-TTL:PT1H
BEGIN:VTIMEZONE
TZID:America/Chicago
BEGIN:DAYLIGHT
TZOFFSETFROM:-0600
TZOFFSETTO:-0500
TZNAME:CDT
DTSTART:20230312T080000
END:DAYLIGHT
BEGIN:STANDARD
TZOFFSETFROM:-0500
TZOFFSETTO:-0600
TZNAME:CST
DTSTART:20231105T070000
END:STANDARD
BEGIN:DAYLIGHT
TZOFFSETFROM:-0600
TZOFFSETTO:-0500
TZNAME:CDT
DTSTART:20240310T080000
END:DAYLIGHT
BEGIN:STANDARD
TZOFFSETFROM:-0500
TZOFFSETTO:-0600
TZNAME:CST
DTSTART:20241103T070000
END:STANDARD
BEGIN:DAYLIGHT
TZOFFSETFROM:-0600
TZOFFSETTO:-0500
TZNAME:CDT
DTSTART:20250309T080000
END:DAYLIGHT
BEGIN:STANDARD
TZOFFSETFROM:-0500
TZOFFSETTO:-0600
TZNAME:CST
DTSTART:20251102T070000
END:STANDARD
END:VTIMEZONE
BEGIN:VEVENT
DTSTART;TZID=America/Chicago:20240728T190000
DTEND;TZID=America/Chicago:20240728T203000
DTSTAMP:20260424T102510
CREATED:20240709T214635Z
LAST-MODIFIED:20240726T210120Z
UID:10001269-1722193200-1722198600@siouxcitylcic.com
SUMMARY:Ballet Folklorico de Jalisco
DESCRIPTION:On Sunday\, July 28\, 2024\, at 7:00 pm\, come to the Lewis and Clark Interpretive Center’s Spirit of Discovery Summer show being held on its outdoor stage. The evening’s program features Ballet Folklorico de Jalisco. \nAdmission is free. The audience will be positioned in a grassy area of Center’s campus\, so they are encouraged to bring lawn chairs or blankets\, as well as refreshments. In case of rain\, the show will be moved inside to the auditorium. \nThis highly talented local Siouxland dance troupe has been in existence for over twenty years. The founder\, Rosa Losa\, started the troupe for family members who wanted to dance.  Now a non-profit group\, they currently have 45 dancers\, ranging in age from 12-17. The dancers come from many different elementary and high schools in Sioux City\, IA and South Sioux City\, NE. \nThis all-volunteer troupe has been the entertainment for various entities fundraising evenings\, have performed at Des Moines Latin Festival\, and have traveled to Lincoln and Omaha NE and Watertown and Mitchell SD. The current director\, Lily Quinonez-Simental “loves to see the dancers benefit from the physical and mental exercise of dancing and of learning about the culture and dances from the many states of Mexico.”
URL:https://siouxcitylcic.com/event/ballet-folklorico-de-jalisco/
LOCATION:Outdoor “Spirit of Discovery” Stage\, 900 Larsen Park Road\, Sioux City\, IA\, 51103\, United States
CATEGORIES:Adults/Families’ Event,Special Event
ATTACH;FMTTYPE=image/png:https://siouxcitylcic.com/wp-content/uploads/2024/07/Ballet-Folklorico.png
END:VEVENT
END:VCALENDAR