BEGIN:VCALENDAR
VERSION:2.0
PRODID:-//Sioux City Lewis and Clark Interpretive Center - ECPv6.15.20//NONSGML v1.0//EN
CALSCALE:GREGORIAN
METHOD:PUBLISH
X-WR-CALNAME:Sioux City Lewis and Clark Interpretive Center
X-ORIGINAL-URL:https://siouxcitylcic.com
X-WR-CALDESC:Events for Sioux City Lewis and Clark Interpretive Center
REFRESH-INTERVAL;VALUE=DURATION:PT1H
X-Robots-Tag:noindex
X-PUBLISHED-TTL:PT1H
BEGIN:VTIMEZONE
TZID:America/Chicago
BEGIN:DAYLIGHT
TZOFFSETFROM:-0600
TZOFFSETTO:-0500
TZNAME:CDT
DTSTART:20230312T080000
END:DAYLIGHT
BEGIN:STANDARD
TZOFFSETFROM:-0500
TZOFFSETTO:-0600
TZNAME:CST
DTSTART:20231105T070000
END:STANDARD
BEGIN:DAYLIGHT
TZOFFSETFROM:-0600
TZOFFSETTO:-0500
TZNAME:CDT
DTSTART:20240310T080000
END:DAYLIGHT
BEGIN:STANDARD
TZOFFSETFROM:-0500
TZOFFSETTO:-0600
TZNAME:CST
DTSTART:20241103T070000
END:STANDARD
BEGIN:DAYLIGHT
TZOFFSETFROM:-0600
TZOFFSETTO:-0500
TZNAME:CDT
DTSTART:20250309T080000
END:DAYLIGHT
BEGIN:STANDARD
TZOFFSETFROM:-0500
TZOFFSETTO:-0600
TZNAME:CST
DTSTART:20251102T070000
END:STANDARD
END:VTIMEZONE
BEGIN:VEVENT
DTSTART;TZID=America/Chicago:20241013T120000
DTEND;TZID=America/Chicago:20241013T160000
DTSTAMP:20260424T063824
CREATED:20240904T204959Z
LAST-MODIFIED:20241011T134417Z
UID:10001297-1728820800-1728835200@siouxcitylcic.com
SUMMARY:Percy's Pals: Sioux City Fall Fest
DESCRIPTION:We are very excited to be partnering with the City of Sioux City again this year to provide some awesome family fun! There will be an apple station (with apples prepared several different ways)\, simple and safe candle making\, archery\, a campfire cooking demonstration\, and a reader’s theatre performance of The Legend of Sleepy Hollow. Don’t worry if you can’t make this event during the regular class time. These programs are available Saturday and Sunday\, from noon until 4:00! \n  \nREGISTER HERE!\n[ninja_form id=’39’]
URL:https://siouxcitylcic.com/event/percys-pals-sioux-city-fall-fest/2024-10-13/
LOCATION:Lewis and Clark Interpretive Center\, 900 Larsen Park Road\, Sioux City\, IA\, 51103\, United States
CATEGORIES:Adults/Families’ Event,Kids’ Event
ATTACH;FMTTYPE=image/png:https://siouxcitylcic.com/wp-content/uploads/2024/09/Percys-Pals-Website-10-12-24.png
END:VEVENT
BEGIN:VEVENT
DTSTART;TZID=America/Chicago:20241012T120000
DTEND;TZID=America/Chicago:20241012T160000
DTSTAMP:20260424T063824
CREATED:20240904T204959Z
LAST-MODIFIED:20241011T134417Z
UID:10001296-1728734400-1728748800@siouxcitylcic.com
SUMMARY:Percy's Pals: Sioux City Fall Fest
DESCRIPTION:We are very excited to be partnering with the City of Sioux City again this year to provide some awesome family fun! There will be an apple station (with apples prepared several different ways)\, simple and safe candle making\, archery\, a campfire cooking demonstration\, and a reader’s theatre performance of The Legend of Sleepy Hollow. Don’t worry if you can’t make this event during the regular class time. These programs are available Saturday and Sunday\, from noon until 4:00! \n  \nREGISTER HERE!\n[ninja_form id=’39’]
URL:https://siouxcitylcic.com/event/percys-pals-sioux-city-fall-fest/2024-10-12/
LOCATION:Lewis and Clark Interpretive Center\, 900 Larsen Park Road\, Sioux City\, IA\, 51103\, United States
CATEGORIES:Adults/Families’ Event,Kids’ Event
ATTACH;FMTTYPE=image/png:https://siouxcitylcic.com/wp-content/uploads/2024/09/Percys-Pals-Website-10-12-24.png
END:VEVENT
END:VCALENDAR