BEGIN:VCALENDAR
VERSION:2.0
PRODID:-//Sioux City Lewis and Clark Interpretive Center - ECPv6.15.20//NONSGML v1.0//EN
CALSCALE:GREGORIAN
METHOD:PUBLISH
X-ORIGINAL-URL:https://siouxcitylcic.com
X-WR-CALDESC:Events for Sioux City Lewis and Clark Interpretive Center
REFRESH-INTERVAL;VALUE=DURATION:PT1H
X-Robots-Tag:noindex
X-PUBLISHED-TTL:PT1H
BEGIN:VTIMEZONE
TZID:America/Chicago
BEGIN:DAYLIGHT
TZOFFSETFROM:-0600
TZOFFSETTO:-0500
TZNAME:CDT
DTSTART:20240310T080000
END:DAYLIGHT
BEGIN:STANDARD
TZOFFSETFROM:-0500
TZOFFSETTO:-0600
TZNAME:CST
DTSTART:20241103T070000
END:STANDARD
BEGIN:DAYLIGHT
TZOFFSETFROM:-0600
TZOFFSETTO:-0500
TZNAME:CDT
DTSTART:20250309T080000
END:DAYLIGHT
BEGIN:STANDARD
TZOFFSETFROM:-0500
TZOFFSETTO:-0600
TZNAME:CST
DTSTART:20251102T070000
END:STANDARD
BEGIN:DAYLIGHT
TZOFFSETFROM:-0600
TZOFFSETTO:-0500
TZNAME:CDT
DTSTART:20260308T080000
END:DAYLIGHT
BEGIN:STANDARD
TZOFFSETFROM:-0500
TZOFFSETTO:-0600
TZNAME:CST
DTSTART:20261101T070000
END:STANDARD
END:VTIMEZONE
BEGIN:VEVENT
DTSTART;TZID=America/Chicago:20250202T140000
DTEND;TZID=America/Chicago:20250202T150000
DTSTAMP:20260425T065817
CREATED:20240903T194511Z
LAST-MODIFIED:20250125T165725Z
UID:10001293-1738504800-1738508400@siouxcitylcic.com
SUMMARY:Songs of Cowboy Poems of the Great Northern Plains
DESCRIPTION:On Sunday\, February 2\, 2025\, come listen to talented singer/songwriter Michael “Mac” McDonald present a concert of tunes he has written for some of the finest cowboy poems of the Great Northern Plains\, featuring cowboy poetry of E. A. Brininstool\, Badger Clark\, E. A. L. Griffin\, and Robert V. Carr. Admission is free; reception to follow. \nMac has a lengthy history of playing music in the Siouxland area from days of the Kerry House at Junction City\, to being the voice of live Irish music on KUSD-FM on Saint Patrick’s Day\, and to working with the South Dakota Friends of Old Time Music. McDonald often plays tunes with his daughter\, Heather\, performing at the South Dakota State Fair as well as at three Sioux Falls’ Irish Fests\, a Kansas City Irish Fest\, and an Iowa Irish Fest. \nMcDonald wrote a program of Lewis and Clark tunes for the 2002 bicentennial\, and the Lewis and Clark Interpretive Center soon contacted McDonald to perform his program for the new Center featuring his tune\, “The Lament of Charles Floyd.” Recently\, McDonald has been reading a great deal of cowboy poetry from the late nineteenth and the early twentieth centuries and taking those poems and turning them into modern-day “nighthawk tunes\,” tunes that cowboys sang to their bedded herds of cattle sung to keep the cattle from being spooked by night noises. Hope to see you at the Center on February 2nd.
URL:https://siouxcitylcic.com/event/john-adams-our-second-president/
LOCATION:Betty Strong Encounter Center\, 900 Larsen Park Road\, Sioux City\, IA\, 51103\, United States
CATEGORIES:Adults/Families’ Event
ATTACH;FMTTYPE=image/jpeg:https://siouxcitylcic.com/wp-content/uploads/2024/09/Michael-McDonald.jpg
END:VEVENT
END:VCALENDAR