BEGIN:VCALENDAR
VERSION:2.0
PRODID:-//Sioux City Lewis and Clark Interpretive Center - ECPv6.15.20//NONSGML v1.0//EN
CALSCALE:GREGORIAN
METHOD:PUBLISH
X-ORIGINAL-URL:https://siouxcitylcic.com
X-WR-CALDESC:Events for Sioux City Lewis and Clark Interpretive Center
REFRESH-INTERVAL;VALUE=DURATION:PT1H
X-Robots-Tag:noindex
X-PUBLISHED-TTL:PT1H
BEGIN:VTIMEZONE
TZID:America/Chicago
BEGIN:DAYLIGHT
TZOFFSETFROM:-0600
TZOFFSETTO:-0500
TZNAME:CDT
DTSTART:20230312T080000
END:DAYLIGHT
BEGIN:STANDARD
TZOFFSETFROM:-0500
TZOFFSETTO:-0600
TZNAME:CST
DTSTART:20231105T070000
END:STANDARD
BEGIN:DAYLIGHT
TZOFFSETFROM:-0600
TZOFFSETTO:-0500
TZNAME:CDT
DTSTART:20240310T080000
END:DAYLIGHT
BEGIN:STANDARD
TZOFFSETFROM:-0500
TZOFFSETTO:-0600
TZNAME:CST
DTSTART:20241103T070000
END:STANDARD
BEGIN:DAYLIGHT
TZOFFSETFROM:-0600
TZOFFSETTO:-0500
TZNAME:CDT
DTSTART:20250309T080000
END:DAYLIGHT
BEGIN:STANDARD
TZOFFSETFROM:-0500
TZOFFSETTO:-0600
TZNAME:CST
DTSTART:20251102T070000
END:STANDARD
END:VTIMEZONE
BEGIN:VEVENT
DTSTART;TZID=America/Chicago:20240711T180000
DTEND;TZID=America/Chicago:20240711T193000
DTSTAMP:20260425T195306
CREATED:20240410T174800Z
LAST-MODIFIED:20240410T214802Z
UID:10000880-1720720800-1720726200@siouxcitylcic.com
SUMMARY:What is a Weed?
DESCRIPTION:What are weeds\, and how do you know what is a weed and what might be something beneficial to your garden? Local plant expert Rich Pope will join us to teach us all about which plants are good for your garden\, and which plants you should pull to help your garden thrive. \nThe Growers’ Academy is a sixteen-week course which includes classes on topics such as soil preparation\, nutrition\, and community responsibility. Each class includes a 45-minute classroom lesson and 45 minutes working in the Center’s new Community Garden. The Growers’ Academy and Community Garden are sponsored and fully funded by our partners\, CF Industries. \n[ninja_form id=’41’]
URL:https://siouxcitylcic.com/event/what-is-a-weed/
LOCATION:Lewis and Clark Interpretive Center\, 900 Larsen Park Road\, Sioux City\, IA\, 51103\, United States
CATEGORIES:Kids’ Event
ATTACH;FMTTYPE=image/png:https://siouxcitylcic.com/wp-content/uploads/2024/04/Growers-Academy-billboard-1920-x-1080-px-11.png
END:VEVENT
BEGIN:VEVENT
DTSTART;TZID=America/Chicago:20240718T180000
DTEND;TZID=America/Chicago:20240718T193000
DTSTAMP:20260425T195306
CREATED:20240410T175226Z
LAST-MODIFIED:20240410T214851Z
UID:10000881-1721325600-1721331000@siouxcitylcic.com
SUMMARY:Helpful Flowers in Your Vegetable Garden
DESCRIPTION:Did you know that planting marigolds around your vegetable garden can help prevent rabbits from entering? Lindsay Meylor\, Horticulture Coordinator for the Woodbury County ISU Extension Office will provide us with valuable information about how certain flowers can benefit a vegetable garden. We will also be planting some flowers in beds around the Center! \nThe Growers’ Academy is a sixteen-week course which includes classes on topics such as soil preparation\, nutrition\, and community responsibility. Each class includes a 45-minute classroom lesson and 45 minutes working in the Center’s new Community Garden. The Growers’ Academy and Community Garden are sponsored and fully funded by our partners\, CF Industries. \n[ninja_form id=’41’]
URL:https://siouxcitylcic.com/event/helpful-flowers/
LOCATION:Lewis and Clark Interpretive Center\, 900 Larsen Park Road\, Sioux City\, IA\, 51103\, United States
ATTACH;FMTTYPE=image/png:https://siouxcitylcic.com/wp-content/uploads/2024/04/Growers-Academy-billboard-1920-x-1080-px-12.png
END:VEVENT
BEGIN:VEVENT
DTSTART;TZID=America/Chicago:20240725T180000
DTEND;TZID=America/Chicago:20240725T193000
DTSTAMP:20260425T195306
CREATED:20240410T175834Z
LAST-MODIFIED:20240410T214932Z
UID:10000882-1721930400-1721935800@siouxcitylcic.com
SUMMARY:Good and Bad Bugs
DESCRIPTION:Bees have been endangered for the past several years and to help them thrive\, we need to focus on the hive. We will learn how to make safe havens for bees in our metropolitan habitat and how pollination benefits other plants and humans\, too! Phil Breed\, of the Siouxland Beekeepers Association will bring some of his tiny friends to help explain why pollination and bees are so important. \nThe Growers’ Academy is a sixteen-week course which includes classes on topics such as soil preparation\, nutrition\, and community responsibility. Each class includes a 45-minute classroom lesson and 45 minutes working in the Center’s new Community Garden. The Growers’ Academy and Community Garden are sponsored and fully funded by our partners\, CF Industries. \n[ninja_form id=’41’]
URL:https://siouxcitylcic.com/event/good-and-bad-bugs/
LOCATION:Lewis and Clark Interpretive Center\, 900 Larsen Park Road\, Sioux City\, IA\, 51103\, United States
CATEGORIES:Kids’ Event
ATTACH;FMTTYPE=image/png:https://siouxcitylcic.com/wp-content/uploads/2024/04/Growers-Academy-billboard-1920-x-1080-px-13.png
END:VEVENT
END:VCALENDAR