BEGIN:VCALENDAR
VERSION:2.0
PRODID:-//Sioux City Lewis and Clark Interpretive Center - ECPv6.15.20//NONSGML v1.0//EN
CALSCALE:GREGORIAN
METHOD:PUBLISH
X-WR-CALNAME:Sioux City Lewis and Clark Interpretive Center
X-ORIGINAL-URL:https://siouxcitylcic.com
X-WR-CALDESC:Events for Sioux City Lewis and Clark Interpretive Center
REFRESH-INTERVAL;VALUE=DURATION:PT1H
X-Robots-Tag:noindex
X-PUBLISHED-TTL:PT1H
BEGIN:VTIMEZONE
TZID:America/Chicago
BEGIN:DAYLIGHT
TZOFFSETFROM:-0600
TZOFFSETTO:-0500
TZNAME:CDT
DTSTART:20230312T080000
END:DAYLIGHT
BEGIN:STANDARD
TZOFFSETFROM:-0500
TZOFFSETTO:-0600
TZNAME:CST
DTSTART:20231105T070000
END:STANDARD
BEGIN:DAYLIGHT
TZOFFSETFROM:-0600
TZOFFSETTO:-0500
TZNAME:CDT
DTSTART:20240310T080000
END:DAYLIGHT
BEGIN:STANDARD
TZOFFSETFROM:-0500
TZOFFSETTO:-0600
TZNAME:CST
DTSTART:20241103T070000
END:STANDARD
BEGIN:DAYLIGHT
TZOFFSETFROM:-0600
TZOFFSETTO:-0500
TZNAME:CDT
DTSTART:20250309T080000
END:DAYLIGHT
BEGIN:STANDARD
TZOFFSETFROM:-0500
TZOFFSETTO:-0600
TZNAME:CST
DTSTART:20251102T070000
END:STANDARD
END:VTIMEZONE
BEGIN:VEVENT
DTSTART;TZID=America/Chicago:20241109T140000
DTEND;TZID=America/Chicago:20241109T144500
DTSTAMP:20260424T045149
CREATED:20240904T211355Z
LAST-MODIFIED:20240904T211355Z
UID:10001303-1731160800-1731163500@siouxcitylcic.com
SUMMARY:Percy's Pals: Holidays on the Trail
DESCRIPTION:When we think of holidays\,  many of us think about spending time with our families. The Corps of Discovery members had to celebrate many holidays far away from their families. What traditions did they carry with them on the journey? What new traditions did they start? We will answer some of those questions and talk about traditions which may have been popular in the time of Lewis and Clark that we still carry on\, today. \nREGISTER HERE!\n[ninja_form id=’39’]
URL:https://siouxcitylcic.com/event/percys-pals-holidays-on-the-trail/2024-11-09/2/
LOCATION:Lewis and Clark Interpretive Center\, 900 Larsen Park Road\, Sioux City\, IA\, 51103\, United States
CATEGORIES:Kids’ Event
ATTACH;FMTTYPE=image/png:https://siouxcitylcic.com/wp-content/uploads/2024/09/Percys-Pals-Website-11-9-24.png
END:VEVENT
BEGIN:VEVENT
DTSTART;TZID=America/Chicago:20241109T130000
DTEND;TZID=America/Chicago:20241109T134500
DTSTAMP:20260424T045149
CREATED:20240904T211355Z
LAST-MODIFIED:20240904T211355Z
UID:10001302-1731157200-1731159900@siouxcitylcic.com
SUMMARY:Percy's Pals: Holidays on the Trail
DESCRIPTION:When we think of holidays\,  many of us think about spending time with our families. The Corps of Discovery members had to celebrate many holidays far away from their families. What traditions did they carry with them on the journey? What new traditions did they start? We will answer some of those questions and talk about traditions which may have been popular in the time of Lewis and Clark that we still carry on\, today. \nREGISTER HERE!\n[ninja_form id=’39’]
URL:https://siouxcitylcic.com/event/percys-pals-holidays-on-the-trail/2024-11-09/1/
LOCATION:Lewis and Clark Interpretive Center\, 900 Larsen Park Road\, Sioux City\, IA\, 51103\, United States
CATEGORIES:Kids’ Event
ATTACH;FMTTYPE=image/png:https://siouxcitylcic.com/wp-content/uploads/2024/09/Percys-Pals-Website-11-9-24.png
END:VEVENT
BEGIN:VEVENT
DTSTART;TZID=America/Chicago:20241102T130000
DTEND;TZID=America/Chicago:20241102T134500
DTSTAMP:20260424T045149
CREATED:20240904T210928Z
LAST-MODIFIED:20240904T210928Z
UID:10001300-1730552400-1730555100@siouxcitylcic.com
SUMMARY:Percy's Pals: Expedition Dwellings
DESCRIPTION:The Corps of Discovery built three temporary forts on their journey\, but what did they use for day-to-day shelter? And what types of dwellings did they see in Native American villages? We will talk about how Lewis and Clark designed and built their forts; and how the Native American nations lived in their different homes (many nations had their own\, distinct housing). We will build a fort together during the class\, and will construct miniature Native American dwellings to take home! \n  \nREGISTER HERE!\n[ninja_form id=’39’]
URL:https://siouxcitylcic.com/event/percys-pals-expedition-dwellings/
LOCATION:Lewis and Clark Interpretive Center\, 900 Larsen Park Road\, Sioux City\, IA\, 51103\, United States
CATEGORIES:Kids’ Event
ATTACH;FMTTYPE=image/png:https://siouxcitylcic.com/wp-content/uploads/2024/09/Percys-Pals-Website-11-2-24.png
END:VEVENT
BEGIN:VEVENT
DTSTART;TZID=America/Chicago:20241026T140000
DTEND;TZID=America/Chicago:20241026T144500
DTSTAMP:20260424T045149
CREATED:20240904T210312Z
LAST-MODIFIED:20240904T210312Z
UID:10001299-1729951200-1729953900@siouxcitylcic.com
SUMMARY:Percy's Pals: Languages on the Trail
DESCRIPTION:Have you ever played a game of “telephone?” The Corps of Discovery did a lot of that on their trip\, sometimes having to have things translated through as many as four other people during a single conversation! We will talk about the importance of being able to understand each other clearly\, and learn some fun words in new languages. There may even be a game or two of “telephone…” \nREGISTER HERE!\n[ninja_form id=’39’]
URL:https://siouxcitylcic.com/event/percys-pals-languages-on-the-trail/2024-10-26/2/
LOCATION:Lewis and Clark Interpretive Center\, 900 Larsen Park Road\, Sioux City\, IA\, 51103\, United States
CATEGORIES:Kids’ Event
ATTACH;FMTTYPE=image/png:https://siouxcitylcic.com/wp-content/uploads/2024/09/Percys-Pals-Website-10-26-24.png
END:VEVENT
BEGIN:VEVENT
DTSTART;TZID=America/Chicago:20241026T130000
DTEND;TZID=America/Chicago:20241026T134500
DTSTAMP:20260424T045149
CREATED:20240904T210312Z
LAST-MODIFIED:20240904T210312Z
UID:10001298-1729947600-1729950300@siouxcitylcic.com
SUMMARY:Percy's Pals: Languages on the Trail
DESCRIPTION:Have you ever played a game of “telephone?” The Corps of Discovery did a lot of that on their trip\, sometimes having to have things translated through as many as four other people during a single conversation! We will talk about the importance of being able to understand each other clearly\, and learn some fun words in new languages. There may even be a game or two of “telephone…” \nREGISTER HERE!\n[ninja_form id=’39’]
URL:https://siouxcitylcic.com/event/percys-pals-languages-on-the-trail/2024-10-26/1/
LOCATION:Lewis and Clark Interpretive Center\, 900 Larsen Park Road\, Sioux City\, IA\, 51103\, United States
CATEGORIES:Kids’ Event
ATTACH;FMTTYPE=image/png:https://siouxcitylcic.com/wp-content/uploads/2024/09/Percys-Pals-Website-10-26-24.png
END:VEVENT
BEGIN:VEVENT
DTSTART;TZID=America/Chicago:20241019T140000
DTEND;TZID=America/Chicago:20241019T144500
DTSTAMP:20260424T045149
CREATED:20240904T204226Z
LAST-MODIFIED:20240904T204226Z
UID:10001295-1729346400-1729349100@siouxcitylcic.com
SUMMARY:Percy's Pals: Native American Nations
DESCRIPTION:You probably already know that Lewis and Clark encountered Native Americans on their journey. But did you know that Lewis\, Clark\, and the Corps of Discovery came into direct contact with around 50 Native American Nations? It is important for us to know that Native Americans played a very important role by helping the Corps of Discovery survive the expedition. During this class we will learn about some of the different nations who were living west of the Mississippi River\, which nations were helpful\, and just how important their help was. \nREGISTER HERE!\n[ninja_form id=’39’]
URL:https://siouxcitylcic.com/event/percys-pals-native-american-nations/2024-10-19/2/
LOCATION:Lewis and Clark Interpretive Center\, 900 Larsen Park Road\, Sioux City\, IA\, 51103\, United States
CATEGORIES:Kids’ Event
ATTACH;FMTTYPE=image/png:https://siouxcitylcic.com/wp-content/uploads/2024/09/Percys-Pals-Website-10-19-24.png
END:VEVENT
BEGIN:VEVENT
DTSTART;TZID=America/Chicago:20241019T130000
DTEND;TZID=America/Chicago:20241019T134500
DTSTAMP:20260424T045149
CREATED:20240904T204226Z
LAST-MODIFIED:20240904T204226Z
UID:10001294-1729342800-1729345500@siouxcitylcic.com
SUMMARY:Percy's Pals: Native American Nations
DESCRIPTION:You probably already know that Lewis and Clark encountered Native Americans on their journey. But did you know that Lewis\, Clark\, and the Corps of Discovery came into direct contact with around 50 Native American Nations? It is important for us to know that Native Americans played a very important role by helping the Corps of Discovery survive the expedition. During this class we will learn about some of the different nations who were living west of the Mississippi River\, which nations were helpful\, and just how important their help was. \nREGISTER HERE!\n[ninja_form id=’39’]
URL:https://siouxcitylcic.com/event/percys-pals-native-american-nations/2024-10-19/1/
LOCATION:Lewis and Clark Interpretive Center\, 900 Larsen Park Road\, Sioux City\, IA\, 51103\, United States
CATEGORIES:Kids’ Event
ATTACH;FMTTYPE=image/png:https://siouxcitylcic.com/wp-content/uploads/2024/09/Percys-Pals-Website-10-19-24.png
END:VEVENT
END:VCALENDAR