BEGIN:VCALENDAR
VERSION:2.0
PRODID:-//Sioux City Lewis and Clark Interpretive Center - ECPv6.15.20//NONSGML v1.0//EN
CALSCALE:GREGORIAN
METHOD:PUBLISH
X-WR-CALNAME:Sioux City Lewis and Clark Interpretive Center
X-ORIGINAL-URL:https://siouxcitylcic.com
X-WR-CALDESC:Events for Sioux City Lewis and Clark Interpretive Center
REFRESH-INTERVAL;VALUE=DURATION:PT1H
X-Robots-Tag:noindex
X-PUBLISHED-TTL:PT1H
BEGIN:VTIMEZONE
TZID:America/Chicago
BEGIN:DAYLIGHT
TZOFFSETFROM:-0600
TZOFFSETTO:-0500
TZNAME:CDT
DTSTART:20230312T080000
END:DAYLIGHT
BEGIN:STANDARD
TZOFFSETFROM:-0500
TZOFFSETTO:-0600
TZNAME:CST
DTSTART:20231105T070000
END:STANDARD
BEGIN:DAYLIGHT
TZOFFSETFROM:-0600
TZOFFSETTO:-0500
TZNAME:CDT
DTSTART:20240310T080000
END:DAYLIGHT
BEGIN:STANDARD
TZOFFSETFROM:-0500
TZOFFSETTO:-0600
TZNAME:CST
DTSTART:20241103T070000
END:STANDARD
BEGIN:DAYLIGHT
TZOFFSETFROM:-0600
TZOFFSETTO:-0500
TZNAME:CDT
DTSTART:20250309T080000
END:DAYLIGHT
BEGIN:STANDARD
TZOFFSETFROM:-0500
TZOFFSETTO:-0600
TZNAME:CST
DTSTART:20251102T070000
END:STANDARD
END:VTIMEZONE
BEGIN:VEVENT
DTSTART;TZID=America/Chicago:20241215T140000
DTEND;TZID=America/Chicago:20241215T150000
DTSTAMP:20260424T105313
CREATED:20241026T174948Z
LAST-MODIFIED:20241203T161802Z
UID:10001309-1734271200-1734274800@siouxcitylcic.com
SUMMARY:“Classic Langley Songs and Holiday Favorites”
DESCRIPTION:One of the Center’s favorite duos\, Mike and Jack Langley will present “Classic Langley Originals and Holiday Favorites” at the Betty Strong Encounter Center on December 15 at 2:00 pm. Admission is free\, with reception to follow. \n Known for presenting a heart-warming show\, this wonderful father and son will share their musical talents with a mix of original and old favorite tunes. They have performed together for 40 years. They have performed onstage from Sioux City to Nashville\, Tennessee\, to Vienna\, Austria and back. But they always enjoy coming back to the Betty Strong Encounter Center and its great audiences. They are always a crowd favorite at the Center.
URL:https://siouxcitylcic.com/event/classic-langley-songs-and-holiday-favorites/
LOCATION:Lewis and Clark Interpretive Center\, 900 Larsen Park Road\, Sioux City\, IA\, 51103\, United States
CATEGORIES:Adults/Families’ Event
ATTACH;FMTTYPE=image/jpeg:https://siouxcitylcic.com/wp-content/uploads/2024/10/The-Langleys.jpg
END:VEVENT
END:VCALENDAR