BEGIN:VCALENDAR
VERSION:2.0
PRODID:-//Sioux City Lewis and Clark Interpretive Center - ECPv6.15.20//NONSGML v1.0//EN
CALSCALE:GREGORIAN
METHOD:PUBLISH
X-WR-CALNAME:Sioux City Lewis and Clark Interpretive Center
X-ORIGINAL-URL:https://siouxcitylcic.com
X-WR-CALDESC:Events for Sioux City Lewis and Clark Interpretive Center
REFRESH-INTERVAL;VALUE=DURATION:PT1H
X-Robots-Tag:noindex
X-PUBLISHED-TTL:PT1H
BEGIN:VTIMEZONE
TZID:America/Chicago
BEGIN:DAYLIGHT
TZOFFSETFROM:-0600
TZOFFSETTO:-0500
TZNAME:CDT
DTSTART:20240310T080000
END:DAYLIGHT
BEGIN:STANDARD
TZOFFSETFROM:-0500
TZOFFSETTO:-0600
TZNAME:CST
DTSTART:20241103T070000
END:STANDARD
BEGIN:DAYLIGHT
TZOFFSETFROM:-0600
TZOFFSETTO:-0500
TZNAME:CDT
DTSTART:20250309T080000
END:DAYLIGHT
BEGIN:STANDARD
TZOFFSETFROM:-0500
TZOFFSETTO:-0600
TZNAME:CST
DTSTART:20251102T070000
END:STANDARD
BEGIN:DAYLIGHT
TZOFFSETFROM:-0600
TZOFFSETTO:-0500
TZNAME:CDT
DTSTART:20260308T080000
END:DAYLIGHT
BEGIN:STANDARD
TZOFFSETFROM:-0500
TZOFFSETTO:-0600
TZNAME:CST
DTSTART:20261101T070000
END:STANDARD
END:VTIMEZONE
BEGIN:VEVENT
DTSTART;TZID=America/Chicago:20250119T140000
DTEND;TZID=America/Chicago:20250119T150000
DTSTAMP:20260424T105604
CREATED:20250111T194959Z
LAST-MODIFIED:20250111T194959Z
UID:10001340-1737295200-1737298800@siouxcitylcic.com
SUMMARY:“Dinosaurs of the Hell Creek”
DESCRIPTION:On Sunday\, January 19\, at 2:00pm\, join us as Brian Buckmeier and Darren Maurer discuss their “Dinosaurs of the Hell Creek” museum exhibit that will be at the Sioux City Museum from Feb. 1 to July 31. Admission is free; reception to follow. \n  \nThe pair have been hunting and digging fossilized dinosaur bones from the Hell Creek formation for almost 30 years. The pair have found fossils from T-Rex\, triceratops\, edmontosaurus\, and several other species of late Cretaceous dinosaurs. Brian discovered a new species of dinosaur\, named Dracorex\, in 2003. He found the complete upper skull of the dinosaur which was something that was completely new in the paleontology world. Join us to hear about some of the fossils and an idea what will be contained in the exhibit. \n  \nDarren Maurer is a nationally known artist/illustrator and adventure seeker. Maurer gained wide recognition for his work with Ducks Unlimited\, where he won a record six times and was Iowa Ducks Unlimited Artist of the Year six times. He lives in Sioux City with his wife\, ShLoe\, and has two daughters. \n  \nBrian Buckmeier has been a private practice attorney for 37 years and a part-time magistrate judge for the past six years. Buckmeier hunts for fossils in South Dakota\, Wyoming\, and Montana primarily and has provided many finds of Hell Creek dinosaurs with his most significant find being a new species of dinosaur he found in 2003. He lives in Sioux City with his wife\, Frances\, and has two sons.
URL:https://siouxcitylcic.com/event/dinosaurs-of-the-hell-creek/
LOCATION:Betty Strong Encounter Center\, 900 Larsen Park Road\, Sioux City\, IA\, 51103\, United States
ATTACH;FMTTYPE=image/jpeg:https://siouxcitylcic.com/wp-content/uploads/2025/01/Dinosaurs-of-Hell-Creek.jpg
END:VEVENT
END:VCALENDAR