BEGIN:VCALENDAR
VERSION:2.0
PRODID:-//Sioux City Lewis and Clark Interpretive Center - ECPv6.15.20//NONSGML v1.0//EN
CALSCALE:GREGORIAN
METHOD:PUBLISH
X-ORIGINAL-URL:https://siouxcitylcic.com
X-WR-CALDESC:Events for Sioux City Lewis and Clark Interpretive Center
REFRESH-INTERVAL;VALUE=DURATION:PT1H
X-Robots-Tag:noindex
X-PUBLISHED-TTL:PT1H
BEGIN:VTIMEZONE
TZID:America/Chicago
BEGIN:DAYLIGHT
TZOFFSETFROM:-0600
TZOFFSETTO:-0500
TZNAME:CDT
DTSTART:20230312T080000
END:DAYLIGHT
BEGIN:STANDARD
TZOFFSETFROM:-0500
TZOFFSETTO:-0600
TZNAME:CST
DTSTART:20231105T070000
END:STANDARD
BEGIN:DAYLIGHT
TZOFFSETFROM:-0600
TZOFFSETTO:-0500
TZNAME:CDT
DTSTART:20240310T080000
END:DAYLIGHT
BEGIN:STANDARD
TZOFFSETFROM:-0500
TZOFFSETTO:-0600
TZNAME:CST
DTSTART:20241103T070000
END:STANDARD
BEGIN:DAYLIGHT
TZOFFSETFROM:-0600
TZOFFSETTO:-0500
TZNAME:CDT
DTSTART:20250309T080000
END:DAYLIGHT
BEGIN:STANDARD
TZOFFSETFROM:-0500
TZOFFSETTO:-0600
TZNAME:CST
DTSTART:20251102T070000
END:STANDARD
END:VTIMEZONE
BEGIN:VEVENT
DTSTART;TZID=America/Chicago:20241103T140000
DTEND;TZID=America/Chicago:20241103T150000
DTSTAMP:20260424T083155
CREATED:20241026T172525Z
LAST-MODIFIED:20241026T185434Z
UID:10001304-1730642400-1730646000@siouxcitylcic.com
SUMMARY:Garie Lewis
DESCRIPTION:On Sunday\, November 3\, 2024\, at 2:00pm the Betty Strong Encounter Center welcomes Sioux City-based standup comic Garie Lewis to its stage. Admission is free with a reception to follow. \n  \nGarie genuinely loves performing stand-up.  Whether it is at a comedy club\, a huge theatre crowd\, or a handful of friendly folks at a small venue\, it is all the same to him.  He just needs a microphone and an audience who is ready to be entertained. \n  \nGarie’s act is polished after 40 years’ experience.  He has the confidence to riff with the audience\, pick up the guitar and belt out a song or two\, tell a side-splitting story or rattle off a series of well-crafted jokes. Garie has been a contestant on both Last Comic Standing and Showtime’s Funniest Person in Iowa Contest.  He has performed at the Snow Jam Comedy Festival and has had television appearances on Comedy Gallery Live and Night Shift with Kevin Ferguson.  He starred in the Indie short film “The Ghost in Her” and has several theater acting credits to his name.  He has worked with such notable acts as Steven Wright\, Tommy Chong\, Steve Harvey\, and Credence Clearwater “Revisited.”
URL:https://siouxcitylcic.com/event/garie-lewis/
LOCATION:Betty Strong Encounter Center\, 900 Larsen Park Road\, Sioux City\, IA\, 51103\, United States
CATEGORIES:Adults/Families’ Event
ATTACH;FMTTYPE=image/jpeg:https://siouxcitylcic.com/wp-content/uploads/2024/10/Garie-Lewis.jpg
ORGANIZER;CN="Education Coordinator":MAILTO:lcuser@siouxcitylcic.com
END:VEVENT
END:VCALENDAR