BEGIN:VCALENDAR
VERSION:2.0
PRODID:-//Sioux City Lewis and Clark Interpretive Center - ECPv6.15.20//NONSGML v1.0//EN
CALSCALE:GREGORIAN
METHOD:PUBLISH
X-ORIGINAL-URL:https://siouxcitylcic.com
X-WR-CALDESC:Events for Sioux City Lewis and Clark Interpretive Center
REFRESH-INTERVAL;VALUE=DURATION:PT1H
X-Robots-Tag:noindex
X-PUBLISHED-TTL:PT1H
BEGIN:VTIMEZONE
TZID:America/Chicago
BEGIN:DAYLIGHT
TZOFFSETFROM:-0600
TZOFFSETTO:-0500
TZNAME:CDT
DTSTART:20230312T080000
END:DAYLIGHT
BEGIN:STANDARD
TZOFFSETFROM:-0500
TZOFFSETTO:-0600
TZNAME:CST
DTSTART:20231105T070000
END:STANDARD
BEGIN:DAYLIGHT
TZOFFSETFROM:-0600
TZOFFSETTO:-0500
TZNAME:CDT
DTSTART:20240310T080000
END:DAYLIGHT
BEGIN:STANDARD
TZOFFSETFROM:-0500
TZOFFSETTO:-0600
TZNAME:CST
DTSTART:20241103T070000
END:STANDARD
BEGIN:DAYLIGHT
TZOFFSETFROM:-0600
TZOFFSETTO:-0500
TZNAME:CDT
DTSTART:20250309T080000
END:DAYLIGHT
BEGIN:STANDARD
TZOFFSETFROM:-0500
TZOFFSETTO:-0600
TZNAME:CST
DTSTART:20251102T070000
END:STANDARD
END:VTIMEZONE
BEGIN:VEVENT
DTSTART;TZID=America/Chicago:20241005T130000
DTEND;TZID=America/Chicago:20241005T134500
DTSTAMP:20260424T045604
CREATED:20240827T204604Z
LAST-MODIFIED:20240904T180643Z
UID:10001286-1728133200-1728135900@siouxcitylcic.com
SUMMARY:Percy's Pals: Tools & Techniques
DESCRIPTION:The Lewis and Clark Expedition was a really big adventure! But did you ever wonder what kinds of tools the Corps of Discovery would have had with them? Did you ever wonder how they built forts\, made burned-out canoes\, and even mended or made their own clothing? We will discover a lot of different tasks the Corps of Discovery had to do every day\, and we will discuss the tools and techniques they used to accomplish it all. Students will even make and take home a Lewis and Clark tool of their own! \nOur 45-minute sessions typically include a storybook and/or short video\, digitally interactive lessons\, and a hands-on craft or activity. By catering to multiple learning styles during each session\, students are more likely to store what they learn in their long-term memory\, and also have a LOT of fun! \nREGISTER HERE!\n[ninja_form id=’39’]
URL:https://siouxcitylcic.com/event/percys-pals-tools-techniques/
LOCATION:Lewis and Clark Interpretive Center\, 900 Larsen Park Road\, Sioux City\, IA\, 51103\, United States
CATEGORIES:Kids’ Event
ATTACH;FMTTYPE=image/png:https://siouxcitylcic.com/wp-content/uploads/2024/08/Percys-Pals-Website-10-5-24.png
ORGANIZER;CN="Amanda Gibson%2C Education Coordinator":MAILTO:agibson@siouxcitylcic.com
END:VEVENT
END:VCALENDAR